BEGIN:VCALENDAR
VERSION:2.0
PRODID:-//wp-events-plugin.com//7.2.3.1//EN
TZID:America/Chicago
X-WR-TIMEZONE:America/Chicago
BEGIN:VEVENT
UID:1853@dev.dscc.uic.edu
DTSTART;TZID=America/Chicago:20210706T123000
DTEND;TZID=America/Chicago:20210706T123000
DTSTAMP:20210629T211050Z
URL:https://dev.dscc.uic.edu/events/family-matters-parent-training-and-inf
 ormation-center-monthly-parent-to-parent-discussion-group/
SUMMARY:Family Matters Parent Training and Information Center Monthly Paren
 t-to-Parent Discussion Group
DESCRIPTION:&nbsp\;\n\nA monthly\, Facebook Live lunchtime opportunity for 
 parents of children with special needs to discuss topics of interest\n\nTh
 e Family Matters Parent Training and Information Center is holding a Faceb
 ook Live chat for parents the first Tuesday of every month. A different to
 pic is discussed each month. The next live chat is July 6 at 12:30 p.m.\n\
 nThis live chat is being hosted by Karrie Potter and Abbi Mars and will fo
 cus on parent participation with special education.\n\nParents may join th
 e discussion via Facebook live to share tips\, support and ask questions.
CATEGORIES:Support Group
END:VEVENT
BEGIN:VTIMEZONE
TZID:America/Chicago
X-LIC-LOCATION:America/Chicago
BEGIN:DAYLIGHT
DTSTART:20210314T030000
TZOFFSETFROM:-0600
TZOFFSETTO:-0500
TZNAME:CDT
END:DAYLIGHT
END:VTIMEZONE
END:VCALENDAR