BEGIN:VCALENDAR
VERSION:2.0
PRODID:-//wp-events-plugin.com//7.2.3.1//EN
TZID:America/Chicago
X-WR-TIMEZONE:America/Chicago
BEGIN:VEVENT
UID:331@dev.dscc.uic.edu
DTSTART;TZID=America/Chicago:20150409T183000
DTEND;TZID=America/Chicago:20150409T203000
DTSTAMP:20150320T142146Z
URL:https://dev.dscc.uic.edu/events/financial-planning-for-the-future/
SUMMARY:Financial Planning for the Future
DESCRIPTION:Attend a free parent seminar to plan for your child's financial
  future.\n\nYou'll hear from a financial advisor and special needs attorne
 y on topics including estate planning\, guardianship versus power of attor
 ney\, funding a special needs trust\, beneficiary/titling and family commu
 nication.\n\nThis seminar is free but RSVP is requested by April 3rd.\n\nF
 or more information contact (708) 425-6867 or nschmitz@parklawn.com.
LOCATION:Park Lawn\, 10833 S. Laporte Avenue\, Oak Lawn\, Illinois\, United
  States
GEO:41.695492;-87.74354010000002
X-APPLE-STRUCTURED-LOCATION;VALUE=URI;X-ADDRESS=10833 S. Laporte Avenue\, O
 ak Lawn\, Illinois\, United States;X-APPLE-RADIUS=100;X-TITLE=Park Lawn:ge
 o:41.695492,-87.74354010000002
END:VEVENT
BEGIN:VTIMEZONE
TZID:America/Chicago
X-LIC-LOCATION:America/Chicago
BEGIN:DAYLIGHT
DTSTART:20150308T030000
TZOFFSETFROM:-0600
TZOFFSETTO:-0500
TZNAME:CDT
END:DAYLIGHT
END:VTIMEZONE
END:VCALENDAR