BEGIN:VCALENDAR
VERSION:2.0
PRODID:-//wp-events-plugin.com//7.2.3.1//EN
TZID:America/Chicago
X-WR-TIMEZONE:America/Chicago
BEGIN:VEVENT
UID:823@dev.dscc.uic.edu
DTSTART;TZID=America/Chicago:20170831T130000
DTEND;TZID=America/Chicago:20170831T130000
DTSTAMP:20170829T144649Z
URL:https://dev.dscc.uic.edu/events/free-career-training-in-springfield/
SUMMARY:Free Career Training in Springfield
DESCRIPTION:A free training program that leads to employment in growing in
 dustries is starting this fall.\n\nIllinois workNet and Lincoln Land Commu
 nity College are hosting a light lunch and information session about the p
 rogram at 1 p.m. Aug. 31 at Union Baptist Church in Springfield.\n\nThe fo
 llowing career training is available: certified production technician\, in
 dustrial maintenance certificate and hemodialysis technician.\n\nFor more 
 information\, call (217) 786-4616.\n\nAuxiliary aids and services are avai
 lable upon request to individuals with disabilities.
CATEGORIES:Training
LOCATION:Union Baptist Church\, 1405 E. Monroe St.\, Springfield\, IL \, Un
 ited States
GEO:39.7995416;-89.63636500000001
X-APPLE-STRUCTURED-LOCATION;VALUE=URI;X-ADDRESS=1405 E. Monroe St.\, Spring
 field\, IL \, United States;X-APPLE-RADIUS=100;X-TITLE=Union Baptist Churc
 h:geo:39.7995416,-89.63636500000001
END:VEVENT
BEGIN:VTIMEZONE
TZID:America/Chicago
X-LIC-LOCATION:America/Chicago
BEGIN:DAYLIGHT
DTSTART:20170312T030000
TZOFFSETFROM:-0600
TZOFFSETTO:-0500
TZNAME:CDT
END:DAYLIGHT
END:VTIMEZONE
END:VCALENDAR