BEGIN:VCALENDAR
VERSION:2.0
PRODID:-//wp-events-plugin.com//7.2.3.1//EN
TZID:America/Chicago
X-WR-TIMEZONE:America/Chicago
BEGIN:VEVENT
UID:1063@dev.dscc.uic.edu
DTSTART;TZID=America/Chicago:20180618T080000
DTEND;TZID=America/Chicago:20180618T180000
DTSTAMP:20180626T214536Z
URL:https://dev.dscc.uic.edu/events/free-medical-screenings-in-harrisburg/
SUMMARY:Free Medical Screenings in Harrisburg
DESCRIPTION:Medical screenings for all ages by members of the military.\n\n
 Members of the military will offer free medical screenings to the public o
 n June 18-27 at Harrisburg Middle School. All ages are welcome\, and there
  are no income or residency requirements.\n\nServices include:\n\n 	Medica
 l screening and general exams only\n 	Dental exams and extractions only\n 
 	Optometry screenings and glasses (single vision\, one pair only)\n\nThe s
 creenings will be available from 8 a.m. to 6 p.m. most days. Screenings wi
 ll only be available from 8 a.m. to 1 p.m. on June 24 and June 27.\n\nIf
  you have questions\, call (866) 611-5627.
CATEGORIES:Screening
LOCATION:Harrisburg Middle School\, 312 Bulldog Boulevard\, Harrisburg\, IL
  \, United States
GEO:37.7138966;-88.5668114
X-APPLE-STRUCTURED-LOCATION;VALUE=URI;X-ADDRESS=312 Bulldog Boulevard\, Har
 risburg\, IL \, United States;X-APPLE-RADIUS=100;X-TITLE=Harrisburg Middle
  School:geo:37.7138966,-88.5668114
END:VEVENT
BEGIN:VTIMEZONE
TZID:America/Chicago
X-LIC-LOCATION:America/Chicago
BEGIN:DAYLIGHT
DTSTART:20180311T030000
TZOFFSETFROM:-0600
TZOFFSETTO:-0500
TZNAME:CDT
END:DAYLIGHT
END:VTIMEZONE
END:VCALENDAR