BEGIN:VCALENDAR
VERSION:2.0
PRODID:-//wp-events-plugin.com//7.2.3.1//EN
TZID:America/Chicago
X-WR-TIMEZONE:America/Chicago
BEGIN:VEVENT
UID:77@dev.dscc.uic.edu
DTSTART;TZID=America/Chicago:20141105T170000
DTEND;TZID=America/Chicago:20141105T193000
DTSTAMP:20141024T172231Z
URL:https://dev.dscc.uic.edu/events/free-siu-pediatric-hearing-workshop/
SUMMARY:FREE SIU Pediatric Hearing Workshop
DESCRIPTION:SIU School of Medicine's Hearing &amp\; Balance Clinic in Sprin
 gfield is offering a FREE workshop on November 5th for families and profes
 sionals who have and/or work with children with hearing loss. The workshop
  will be held from 5 to 7:30PM at the Simmons Cancer Institute at SIU\, 31
 5 W. Carpenter Street in Springfield\, IL.  This workshop will provide yo
 u with information on hearing loss\, how the normal and abnormal hearing e
 ar works\,assistive technology and necessary accommodations for children w
 ith hearing loss\, educational impact of hearing loss\,and much\, much mor
 e! More information is available in the workshop brochure.
CATEGORIES:Conference
LOCATION:SIU School of Medicine\, 315 W. Carpenter\, Springfield\, Illinois
 /Sangamon\, 62704\, United States
GEO:39.8075137;-89.65804739999998
X-APPLE-STRUCTURED-LOCATION;VALUE=URI;X-ADDRESS=315 W. Carpenter\, Springfi
 eld\, Illinois/Sangamon\, 62704\, United States;X-APPLE-RADIUS=100;X-TITLE
 =SIU School of Medicine:geo:39.8075137,-89.65804739999998
END:VEVENT
BEGIN:VTIMEZONE
TZID:America/Chicago
X-LIC-LOCATION:America/Chicago
BEGIN:STANDARD
DTSTART:20141102T010000
TZOFFSETFROM:-0500
TZOFFSETTO:-0600
TZNAME:CST
END:STANDARD
END:VTIMEZONE
END:VCALENDAR