BEGIN:VCALENDAR
VERSION:2.0
PRODID:-//wp-events-plugin.com//7.2.3.1//EN
TZID:America/Chicago
X-WR-TIMEZONE:America/Chicago
BEGIN:VEVENT
UID:5763@dev.dscc.uic.edu
DTSTART;TZID=America/Chicago:20250823T083000
DTEND;TZID=America/Chicago:20250823T091500
DTSTAMP:20250808T132345Z
URL:https://dev.dscc.uic.edu/events/friends-learning-and-sharing-hope-flas
 h-adaptive-soccer-in-chatham/
SUMMARY:&#8220\;Friends Learning and Sharing Hope (FLASH) Adaptive Soccer&#
 8221\; in Chatham
DESCRIPTION:Practice\, build skills and make new friends playing adaptive s
 occer\nJoin the Chatham Soccer Association (CSA) and The KASE (Kind and Si
 lly Every Day) Project for &#8220\;Friends Learning and Sharing Hope (FLAS
 H) Adaptive Soccer.&#8221\; The league will meet on Saturdays\, Aug. 23 th
 rough Oct. 4\, from 8:30 to 9:15 a.m.\nFLASH athletes\, let&#8217\;s play 
 soccer!\nAdaptive soccer is for children ages 4 to 10 with developmental a
 nd physical disabilities.\nEach child will pair with a volunteer or peer m
 odel to have fun in the field:\n\nPracticing basic soccer skills\nBuilding
  social skills\nMaking new friends\n\nVolunteers are also needed to peer m
 odel and “buddy up” for Saturday morning soccer.\nRegister for &#8220\
 ;FLASH Adaptive Soccer&#8221\; on the CSA website. Participants must regis
 ter by Aug. 6.\nIf you&#8217\;re interested in volunteering\, please compl
 ete the FLASH Volunteer Form.\nFor questions\, please contact flash@thekas
 eproject.org.\n
CATEGORIES:Class,Playdate
LOCATION:Chatham Community Park\, 711 South Park Ave.\, Chatham\, Illinois\
 , 62629\, United States
X-APPLE-STRUCTURED-LOCATION;VALUE=URI;X-ADDRESS=711 South Park Ave.\, Chath
 am\, Illinois\, 62629\, United States;X-APPLE-RADIUS=100;X-TITLE=Chatham C
 ommunity Park:geo:0,0
END:VEVENT
BEGIN:VTIMEZONE
TZID:America/Chicago
X-LIC-LOCATION:America/Chicago
BEGIN:DAYLIGHT
DTSTART:20250309T030000
TZOFFSETFROM:-0600
TZOFFSETTO:-0500
TZNAME:CDT
END:DAYLIGHT
END:VTIMEZONE
END:VCALENDAR