BEGIN:VCALENDAR
VERSION:2.0
PRODID:-//wp-events-plugin.com//7.2.3.1//EN
TZID:America/Chicago
X-WR-TIMEZONE:America/Chicago
BEGIN:VEVENT
UID:120@dev.dscc.uic.edu
DTSTART;TZID=America/Chicago:20141122T140000
DTEND;TZID=America/Chicago:20141122T160000
DTSTAMP:20141107T162039Z
URL:https://dev.dscc.uic.edu/events/frozen-movie-screening/
SUMMARY:Frozen Movie Screening
DESCRIPTION:Join a special screening of Disney's Frozen.\n\nA theater exper
 ience will be recreated\, complete with a concession stand. Movie goers wi
 ll enjoy screening Disney's frozen in a comfortable\, accommodating enviro
 nment. Family\, friends\, and siblings are all invited to experience the m
 ovie\, activities\, photo opportunities\, sing-a-longs and crafts.\n\nFor 
 more details\, view the flyer.\n\nRSVP to jodykp@aol.com.
LOCATION:Grace Church of DuPage\, 27W344 Galusha Avenue\, Warrenville\, Ill
 inois\, 60555\, United States
GEO:41.8210346;-88.15514789999997
X-APPLE-STRUCTURED-LOCATION;VALUE=URI;X-ADDRESS=27W344 Galusha Avenue\, War
 renville\, Illinois\, 60555\, United States;X-APPLE-RADIUS=100;X-TITLE=Gra
 ce Church of DuPage:geo:41.8210346,-88.15514789999997
END:VEVENT
BEGIN:VTIMEZONE
TZID:America/Chicago
X-LIC-LOCATION:America/Chicago
BEGIN:STANDARD
DTSTART:20141102T010000
TZOFFSETFROM:-0500
TZOFFSETTO:-0600
TZNAME:CST
END:STANDARD
END:VTIMEZONE
END:VCALENDAR