BEGIN:VCALENDAR
VERSION:2.0
PRODID:-//wp-events-plugin.com//7.2.3.1//EN
TZID:America/Chicago
X-WR-TIMEZONE:America/Chicago
BEGIN:VEVENT
UID:961@dev.dscc.uic.edu
DTSTART;TZID=America/Chicago:20180414T090000
DTEND;TZID=America/Chicago:20180414T110000
DTSTAMP:20180329T174151Z
URL:https://dev.dscc.uic.edu/events/guardianship-and-alternatives-for-fami
 lies-of-individuals-with-special-needs-in-effingham/
SUMMARY:Guardianship and Alternatives for Families of Individuals with Spec
 ial Needs in Effingham
DESCRIPTION:Training will outline guardianship and alternatives to guardian
 ship.\n\nOnce a child reaches the age of 18\, the parent is no longer the 
 child's legal guardian. Guardianship is a way to protect those who cannot 
 take care of themselves\, make informed decisions or handle financial asse
 ts. This training on April 14 in Effingham will outline guardianship and a
 lternatives to guardianship that may be options if a person is capable of 
 making some\, but not all\, decisions.\n\nFor more information\, contact K
 ristin Gharst at kristin.gharst@Illinois.gov.\n\nYou may register online h
 ere.
CATEGORIES:Training
LOCATION:U of I Cooperative Extension Office\, Thilker Room\, 1209 Wenthe D
 rive\, Effingham\, IL\, 62401\, United States
GEO:39.138041;-88.55770139999998
X-APPLE-STRUCTURED-LOCATION;VALUE=URI;X-ADDRESS=1209 Wenthe Drive\, Effingh
 am\, IL\, 62401\, United States;X-APPLE-RADIUS=100;X-TITLE=U of I Cooperat
 ive Extension Office\, Thilker Room:geo:39.138041,-88.55770139999998
END:VEVENT
BEGIN:VTIMEZONE
TZID:America/Chicago
X-LIC-LOCATION:America/Chicago
BEGIN:DAYLIGHT
DTSTART:20180311T030000
TZOFFSETFROM:-0600
TZOFFSETTO:-0500
TZNAME:CDT
END:DAYLIGHT
END:VTIMEZONE
END:VCALENDAR