BEGIN:VCALENDAR
VERSION:2.0
PRODID:-//wp-events-plugin.com//7.2.3.1//EN
TZID:America/Chicago
X-WR-TIMEZONE:America/Chicago
BEGIN:VEVENT
UID:2255@dev.dscc.uic.edu
DTSTART;TZID=America/Chicago:20220423T130000
DTEND;TZID=America/Chicago:20220423T160000
DTSTAMP:20220404T141321Z
URL:https://dev.dscc.uic.edu/events/heroes-unite-for-autism-acceptance-and
 -child-abuse-prevention-in-elgin/
SUMMARY:Heroes Unite for Autism Acceptance and Child Abuse Prevention in El
 gin
DESCRIPTION:An event open to community members of all ages to raise awarene
 ss and provide information about Autism Acceptance Month and Child Abuse P
 revention Month\n\nThe Elgin Police Department in partnership with the Aut
 ism Hero Project is hosting the 2nd Annual Heroes Unite event on April 23 
 from 1 - 4 p.m.\n\nThe outdoor event will be held in front of the City of 
 Elgin Police Department\, 151 Douglas Ave.\, in Elgin.\n\nPeople of all ag
 es are invited to an afternoon filled with fun\, raising awareness for peo
 ple living with autism and learning how everyone can help prevent child ab
 use.\n\nThe event will include:\n\n 	Sensory areas\n 	Educational resource
 s\n 	Children's games and activities\n 	Information about community partne
 rs\n 	Raffles\n\nFor more information\, please contact María Borrero at (
 847) 289-2533\, borrero_m@cityofelgin.org or visit the Elgin Police Facebo
 ok page.
CATEGORIES:Resource Fair,Special Event
LOCATION:Elgin Police Department\, 151 Douglas Ave.\, Elgin\, IL\, United S
 tates
X-APPLE-STRUCTURED-LOCATION;VALUE=URI;X-ADDRESS=151 Douglas Ave.\, Elgin\, 
 IL\, United States;X-APPLE-RADIUS=100;X-TITLE=Elgin Police Department:geo:
 0,0
END:VEVENT
BEGIN:VTIMEZONE
TZID:America/Chicago
X-LIC-LOCATION:America/Chicago
BEGIN:DAYLIGHT
DTSTART:20220313T030000
TZOFFSETFROM:-0600
TZOFFSETTO:-0500
TZNAME:CDT
END:DAYLIGHT
END:VTIMEZONE
END:VCALENDAR