BEGIN:VCALENDAR
VERSION:2.0
PRODID:-//wp-events-plugin.com//7.2.3.1//EN
TZID:America/Chicago
X-WR-TIMEZONE:America/Chicago
BEGIN:VEVENT
UID:1977@dev.dscc.uic.edu
DTSTART;TZID=America/Chicago:20211117T173000
DTEND;TZID=America/Chicago:20211117T183000
DTSTAMP:20211021T141947Z
URL:https://dev.dscc.uic.edu/events/home-care-program-support-group-and-wo
 rkshop-series-navigating-the-covid-19-pandemic/
SUMMARY:Home Care Program Support Group and Workshop Series - "Navigating t
 he COVID-19 Pandemic"
DESCRIPTION:&nbsp\;\n\nAn online space for connection and education for par
 ents and caregivers of Home Care Program participants\n\nThe University of
  Illinois Chicago’s Division of Specialized Care for Children (DSCC) is 
 partnering with UIC’s Leadership and Education in Neurodevelopmental and
  related Disabilities Program (IL LEND) to offer a support group for famil
 ies enrolled in the Home Care Program.\n\nThe Home Care Program helps chil
 dren and adults who require in-home nursing care. DSCC operates the Home C
 are Program on behalf of the Illinois Department of Healthcare and Family 
 Services.\n\nThis support group will provide an online space for parents t
 o access educational workshops and swap concerns\, resources and strategie
 s.\n\nThere is no cost for families to participate.\n\nThe group will meet
  on the third Wednesday of the month from November through April.\n\nHere 
 are details for the first session:\n\n 	WHAT: Virtual support group/worksh
 op series for parents/caregivers of children and adults enrolled in the Ho
 me Care Program.\n 	WHEN: Nov. 17 from 5:30 to 6:30 p.m.\n 	TOPIC: Navigat
 ing the COVID-19 Pandemic (Note\, the discussion portion of the support gr
 oup will include a facilitator for Spanish-speaking families.)\n 	WHERE: V
 irtual via Zoom\n 	REGISTER: Please sign up online in advance. After regi
 stering\, you will receive a confirmation email containing information abo
 ut joining the workshop discussion via Zoom.\n
CATEGORIES:Support Group,Workshop
END:VEVENT
BEGIN:VTIMEZONE
TZID:America/Chicago
X-LIC-LOCATION:America/Chicago
BEGIN:STANDARD
DTSTART:20211107T010000
TZOFFSETFROM:-0500
TZOFFSETTO:-0600
TZNAME:CST
END:STANDARD
END:VTIMEZONE
END:VCALENDAR