BEGIN:VCALENDAR
VERSION:2.0
PRODID:-//wp-events-plugin.com//7.2.3.1//EN
TZID:America/Chicago
X-WR-TIMEZONE:America/Chicago
BEGIN:VEVENT
UID:1204@dev.dscc.uic.edu
DTSTART;TZID=America/Chicago:20190227T163000
DTEND;TZID=America/Chicago:20190227T183000
DTSTAMP:20190129T170553Z
URL:https://dev.dscc.uic.edu/events/iep-101-know-your-rights-workshop-in-r
 ock-island/
SUMMARY:"IEP 101: Know Your Rights" Workshop in Rock Island
DESCRIPTION:Learn how to advocate for students receiving special education 
 services.\n\nParents and educators are invited to attend the Illinois/Iowa
  Center for Independent Living's "IEP 101: Know Your Rights" workshop on F
 eb. 27 from 4:30 to 6:30 p.m.\n\nAttendees will learn how to advocate for 
 students receiving special education services and understand how and when 
 to get free legal help.\n\nEquip for Equality Special Education Clinic Sta
 ff Attorney Jessica Schneider will give the workshop.\n\nSpace is limited.
  For more information and to reserve your place\, please call (309) 793-00
 90 or email marisa@iicil.com.\n\nSpecial accommodations are available by r
 equest.
CATEGORIES:Workshop
LOCATION:Illinois/Iowa Center for Independent Living\, 501 11th Street\, Ro
 ck Island\, Illinois\, 61201\, United States
GEO:41.505766;-90.58379809999997
X-APPLE-STRUCTURED-LOCATION;VALUE=URI;X-ADDRESS=501 11th Street\, Rock Isla
 nd\, Illinois\, 61201\, United States;X-APPLE-RADIUS=100;X-TITLE=Illinois/
 Iowa Center for Independent Living:geo:41.505766,-90.58379809999997
END:VEVENT
BEGIN:VTIMEZONE
TZID:America/Chicago
X-LIC-LOCATION:America/Chicago
BEGIN:STANDARD
DTSTART:20181104T010000
TZOFFSETFROM:-0500
TZOFFSETTO:-0600
TZNAME:CST
END:STANDARD
END:VTIMEZONE
END:VCALENDAR