BEGIN:VCALENDAR
VERSION:2.0
PRODID:-//wp-events-plugin.com//7.2.3.1//EN
TZID:America/Chicago
X-WR-TIMEZONE:America/Chicago
BEGIN:VEVENT
UID:1241@dev.dscc.uic.edu
DTSTART;TZID=America/Chicago;VALUE=DATE:20190623
DTEND;TZID=America/Chicago;VALUE=DATE:20190624
DTSTAMP:20190315T153348Z
URL:https://dev.dscc.uic.edu/events/illinois-school-for-the-deaf-tiger-dis
 covery-camp/
SUMMARY:Illinois School for the Deaf Tiger Discovery Camp
DESCRIPTION:Fun outings and activities for campers ages 9-16.\n\nThe Illino
 is School for the Deaf's Tiger Discovery Camp is scheduled for June 23-28.
  The camp is for students ages 9 to 16 who are deaf or hard of hearing.\n\
 nThe camp provides an opportunity to improve communication and socializati
 on skills with peers. Campers will also have the opportunity to enhance th
 eir proficiency in science\, technology\, engineering\, arts\, mathematics
 \, dance and sports. The camp includes various recreational activities in 
 the evenings.\n\nThe application fee is $75 and covers the cost of a t-shi
 rt\, supplies and activities.\n\nTo register\, visit https://goo.gl/forms/
 1Isnz5flIQOGIuDh1.\n\nFor more information\, contact Allison Fraas at Mary
 Allison.Fraas@illinois.gov or (217) 479 4249.
CATEGORIES:Camp
LOCATION:Illinois School for the Deaf High School\, 1501 W. State St.\, Jac
 ksonville\, IL\, United States
GEO:39.7361984;-90.25545019999998
X-APPLE-STRUCTURED-LOCATION;VALUE=URI;X-ADDRESS=1501 W. State St.\, Jackson
 ville\, IL\, United States;X-APPLE-RADIUS=100;X-TITLE=Illinois School for 
 the Deaf High School:geo:39.7361984,-90.25545019999998
END:VEVENT
BEGIN:VTIMEZONE
TZID:America/Chicago
X-LIC-LOCATION:America/Chicago
BEGIN:DAYLIGHT
DTSTART:20190310T030000
TZOFFSETFROM:-0600
TZOFFSETTO:-0500
TZNAME:CDT
END:DAYLIGHT
END:VTIMEZONE
END:VCALENDAR