BEGIN:VCALENDAR
VERSION:2.0
PRODID:-//wp-events-plugin.com//7.2.3.1//EN
TZID:America/Chicago
X-WR-TIMEZONE:America/Chicago
BEGIN:VEVENT
UID:2171@dev.dscc.uic.edu
DTSTART;TZID=America/Chicago:20220621T090000
DTEND;TZID=America/Chicago:20220623T160000
DTSTAMP:20220307T224827Z
URL:https://dev.dscc.uic.edu/events/illinois-school-for-the-visually-impai
 red-2022-virtual-summer-camp/
SUMMARY:Illinois School for the Visually Impaired 2022 Virtual Summer Camp
DESCRIPTION:\n\n\nA free\, virtual summer camp for Illinois residents who h
 ave a pre-determined vision loss that affects their learning ability\n\nIl
 linois School for the Visually Impaired's (ISVI) Virtual Summer Camp 2022 
 will run from June 21-23 for campers in grades 3-5 and grades 6-8 as of Ju
 ne 1\, 2022.\n\nCampers will meet via Zoom on June 21 and 22 at these time
 s:\n\n 	9 a.m. - 12 p.m.\, Grades 3-5\n 	1 - 4 p.m.\, Grades 6-8\n\nEveryo
 ne will meet together on June 23 from 9 a.m. - 12 p.m.\n\nEligible campers
  must be Illinois residents and have a pre-determined vision loss that aff
 ects their learning ability. Campers must also meet the virtual camp's gra
 de level requirements and be able to access Zoom meetings to qualify.\n\nR
 egister online to attend this virtual summer camp. Campers will be accepte
 d on a first-come\,-first-served basis.\n\nRegistration will close on May 
 10. Campers will not be accepted after this date.\n\n\n\n
CATEGORIES:Camp
END:VEVENT
BEGIN:VTIMEZONE
TZID:America/Chicago
X-LIC-LOCATION:America/Chicago
BEGIN:DAYLIGHT
DTSTART:20220313T030000
TZOFFSETFROM:-0600
TZOFFSETTO:-0500
TZNAME:CDT
END:DAYLIGHT
END:VTIMEZONE
END:VCALENDAR