BEGIN:VCALENDAR
VERSION:2.0
PRODID:-//wp-events-plugin.com//7.2.3.1//EN
TZID:America/Chicago
X-WR-TIMEZONE:America/Chicago
BEGIN:VEVENT
UID:723@dev.dscc.uic.edu
DTSTART;TZID=America/Chicago:20170618T080000
DTEND;TZID=America/Chicago:20170618T080000
DTSTAMP:20170622T202542Z
URL:https://dev.dscc.uic.edu/events/illinois-school-for-the-visually-impai
 red-transition-to-independence-camp/
SUMMARY:Illinois School for the Visually Impaired Transition to Independenc
 e Camp
DESCRIPTION:Free one-week camping adventure for youth 15-19 who are blin
 d or visually impaired.\n\nIllinois School for the Visually Impaired (ISVI
 ) summer camps include lab and community learning activities throughout t
 he day and evening activities\, such as swimming\, glow golf and outdoor r
 ecreation.\n\nThe Transition to Independence Camp will allow campers to le
 arn about skills that promote successful transition to adulthood in the ar
 eas of nutrition/fitness\, community involvement and recreation\, indepen
 dent living and employment.\n\nStudents who are visually impaired ages 15 
 to 19 are eligible to attend if they reside in Illinois\, do not current 
 attend ISVI\, are not high school graduates and have appropriate independe
 nt living skills. The camp is free to eligible students.\n\nFor more infor
 mation and to register\, visit http://www.dhs.state.il.us/page.aspx?item=8
 7761.\n\n&nbsp\;
CATEGORIES:Camp
LOCATION:Illinois School for the Visuallly Impaired\, 658 E. State St.\, Ja
 cksonville\, IL \, United States
GEO:39.735101;-90.21772499999997
X-APPLE-STRUCTURED-LOCATION;VALUE=URI;X-ADDRESS=658 E. State St.\, Jacksonv
 ille\, IL \, United States;X-APPLE-RADIUS=100;X-TITLE=Illinois School for 
 the Visuallly Impaired:geo:39.735101,-90.21772499999997
END:VEVENT
BEGIN:VTIMEZONE
TZID:America/Chicago
X-LIC-LOCATION:America/Chicago
BEGIN:DAYLIGHT
DTSTART:20170312T030000
TZOFFSETFROM:-0600
TZOFFSETTO:-0500
TZNAME:CDT
END:DAYLIGHT
END:VTIMEZONE
END:VCALENDAR