BEGIN:VCALENDAR
VERSION:2.0
PRODID:-//wp-events-plugin.com//7.2.3.1//EN
TZID:America/Chicago
X-WR-TIMEZONE:America/Chicago
BEGIN:VEVENT
UID:710@dev.dscc.uic.edu
DTSTART;TZID=America/Chicago:20170628T090000
DTEND;TZID=America/Chicago:20170628T090000
DTSTAMP:20170630T140331Z
URL:https://dev.dscc.uic.edu/events/illinois-wheelchair-basketball-individ
 ual-skills-camp/
SUMMARY:Illinois Wheelchair Basketball: Individual Skills Camp
DESCRIPTION:Camp for ages 12 to 19 to develop wheelchair basketball skills.
 \n\nThis camp aims to help beginners and/or athletes who want to fine tun
 e their foundational wheelchair basketball skills. Instruction at this cam
 p will be provided by the U of I coaching staff and student-athletes.\n\nA
 thletes attending are expected to be physically and mentally prepared for 
 the 8 hours a day training that this type of camp presents. It is open to 
 youth ages 12 to 19.\n\nFor more information and to register\, visit http
 ://www.disability.illinois.edu/camps.
CATEGORIES:Camp
LOCATION:Nugent Hall\, University of Illinois at Urbana-Champaign\, 207 Eas
 t Gregory Drive\, Champaign\, IL \, United States
GEO:40.1038699;-88.23723139999998
X-APPLE-STRUCTURED-LOCATION;VALUE=URI;X-ADDRESS=207 East Gregory Drive\, Ch
 ampaign\, IL \, United States;X-APPLE-RADIUS=100;X-TITLE=Nugent Hall\, Uni
 versity of Illinois at Urbana-Champaign:geo:40.1038699,-88.23723139999998
END:VEVENT
BEGIN:VTIMEZONE
TZID:America/Chicago
X-LIC-LOCATION:America/Chicago
BEGIN:DAYLIGHT
DTSTART:20170312T030000
TZOFFSETFROM:-0600
TZOFFSETTO:-0500
TZNAME:CDT
END:DAYLIGHT
END:VTIMEZONE
END:VCALENDAR