BEGIN:VCALENDAR
VERSION:2.0
PRODID:-//wp-events-plugin.com//7.2.3.1//EN
TZID:America/Chicago
X-WR-TIMEZONE:America/Chicago
BEGIN:VEVENT
UID:2562@dev.dscc.uic.edu
DTSTART;TZID=America/Chicago:20220816T120000
DTEND;TZID=America/Chicago:20220816T130000
DTSTAMP:20220810T135656Z
URL:https://dev.dscc.uic.edu/events/ils-webinar-programacion-en-espanol-to
 ma-de-decisiones-apoyada-para-personas-con-discapacidades-del-desarrollo/
SUMMARY:ILS Webinar Programación en Español – Toma de Decisiones Apoyad
 a para Personas con Discapacidades del Desarrollo
DESCRIPTION:Un seminario web gratuito el 17 de agosto de 10 a. m. a 12 p. m
 .\nThe Arc's Illinois Life Span Program en Español - Toma de Decisiones A
 poyada para Personas con Discapacidades del Desarrollo\n\nObjetivos de apr
 endizaje para este seminario son:\n\n 	Conocer la nueva alternativa al pro
 ceso legal formal de Tutela.\n 	Conocer los papeles y responsabilidades de
  esta alternativa a la tutela.\n\nPresentadora:  La Sra. Consuelo Puente 
 es una abogada jubilada que actualmente trabaja con Family Matters como En
 trenadora Multicultural.  La Sra. Puente fue una defensora durante muchos
  anos de las personas con discapacidades y sus familias.  Su posición ac
 tual le permite enfocar su entusiasmo y energía en apoyar a las familias 
 a través de talleres de capacitación en español sobre Educación Especi
 al.  Consuelo disfruta de la interacción de brindar capacitaciones a aud
 iencias diversas y esta comprometida a ser una aprendiz de por vida y comp
 artir su conocimiento.\n\nSra. Puente comenzó su viaje en la educación e
 special cuando sus dos hijos ahora adultos fueron identificados con autism
 o cuando estaban en preescolar.\n\nInscríbete ahora. El seminario web es 
 gratuito.\n\nPara más información contactar con Pocio Perez al rocio@the
 arcofil.org
CATEGORIES:Webinar
END:VEVENT
BEGIN:VTIMEZONE
TZID:America/Chicago
X-LIC-LOCATION:America/Chicago
BEGIN:DAYLIGHT
DTSTART:20220313T030000
TZOFFSETFROM:-0600
TZOFFSETTO:-0500
TZNAME:CDT
END:DAYLIGHT
END:VTIMEZONE
END:VCALENDAR