BEGIN:VCALENDAR
VERSION:2.0
PRODID:-//wp-events-plugin.com//7.2.3.1//EN
TZID:America/Chicago
X-WR-TIMEZONE:America/Chicago
BEGIN:VEVENT
UID:15@dev.dscc.uic.edu
DTSTART;TZID=America/Chicago:20140929T120000
DTEND;TZID=America/Chicago:20140929T130000
DTSTAMP:20141119T143432Z
URL:https://dev.dscc.uic.edu/events/improve-reading-math-behavior-skills-3
 /
SUMMARY:Improve Reading\, Math & Behavior Skills
DESCRIPTION:Learn helpful strategies and earn a $20 gift card.\n\nThis even
 t is an online webinar - there is no physical location. The free informati
 onal session is designed to give parents the knowledge and skills needed t
 o help children struggling with reading\, math\, or behavior. Sessions are
  available throughout Illinois. Visit your Regional Office page to find an
  event near you.\n\nIf you pre-register and attend the entire two hour ses
 sion\, you will receive a $20 Walmart gift card.\n\nRegister online or con
 tact Family Resource Center on Disabilities at (312) 939-3513.
CATEGORIES:Conference
LOCATION:Family Resource Center on Disabilities\, 11 E Adams Street\, Suite
  1002\, Chicago\, Illinois\, 60603\, United States
GEO:41.8793595;-87.62728949999996
X-APPLE-STRUCTURED-LOCATION;VALUE=URI;X-ADDRESS=11 E Adams Street\, Suite 1
 002\, Chicago\, Illinois\, 60603\, United States;X-APPLE-RADIUS=100;X-TITL
 E=Family Resource Center on Disabilities:geo:41.8793595,-87.62728949999996
END:VEVENT
BEGIN:VTIMEZONE
TZID:America/Chicago
X-LIC-LOCATION:America/Chicago
BEGIN:DAYLIGHT
DTSTART:20140309T030000
TZOFFSETFROM:-0600
TZOFFSETTO:-0500
TZNAME:CDT
END:DAYLIGHT
END:VTIMEZONE
END:VCALENDAR