BEGIN:VCALENDAR
VERSION:2.0
PRODID:-//wp-events-plugin.com//7.2.3.1//EN
TZID:America/Chicago
X-WR-TIMEZONE:America/Chicago
BEGIN:VEVENT
UID:2055@dev.dscc.uic.edu
DTSTART;TZID=America/Chicago:20220108T100000
DTEND;TZID=America/Chicago:20220108T120000
DTSTAMP:20211222T172157Z
URL:https://dev.dscc.uic.edu/events/indoor-soccer-clinic-for-youth-with-he
 aring-loss/
SUMMARY:Indoor Soccer Clinic for Youth with Hearing Loss
DESCRIPTION:Free\, indoor soccer clinic for children and youth who are deaf
  or hard of hearing\n\nThe Chicago Park District and Chicago Fire FC are h
 osting indoor soccer clinics for youth who are deaf or hard of hearing on 
 Saturdays from 10 a.m. to 12 p.m. on:\n\n 	Jan. 8 and 22\n 	Feb. 5 and 19\
 n 	March 5 and 19\n\nThe free soccer clinics are open to youth ages 6 to 1
 3 years old and will be held at McKinley Park\, 2210 W. Pershing Road\, in
  Chicago.\n\nAs a team\, participants will learn the basic skills\, rules 
 and fundamentals of soccer through ball-handling\, drills and close instru
 ction. Skills will be taught in a friendly and fun way\, emphasizing teamw
 ork and fair play.\n\nParticipants are asked to bring their own shin guard
 s and water and to attend dressed in appropriate sports attire.\n\nRegiste
 r online with the Chicago Park District. The activity code is #403999.\n\
 nIf you have questions\, contact Sarah B. Faber at sarah.faber@chicagopark
 district.com or (312) 399-9574 (text only).
CATEGORIES:Special Event
LOCATION:Mckinnley (William) Park\, 2210 West Pershing Road\, Chicago\, IL\
 , 60609\, United States
X-APPLE-STRUCTURED-LOCATION;VALUE=URI;X-ADDRESS=2210 West Pershing Road\, C
 hicago\, IL\, 60609\, United States;X-APPLE-RADIUS=100;X-TITLE=Mckinnley (
 William) Park:geo:0,0
END:VEVENT
BEGIN:VTIMEZONE
TZID:America/Chicago
X-LIC-LOCATION:America/Chicago
BEGIN:STANDARD
DTSTART:20211107T010000
TZOFFSETFROM:-0500
TZOFFSETTO:-0600
TZNAME:CST
END:STANDARD
END:VTIMEZONE
END:VCALENDAR