BEGIN:VCALENDAR
VERSION:2.0
PRODID:-//wp-events-plugin.com//7.2.3.1//EN
TZID:America/Chicago
X-WR-TIMEZONE:America/Chicago
BEGIN:VEVENT
UID:2155@dev.dscc.uic.edu
DTSTART;TZID=America/Chicago:20220613T090000
DTEND;TZID=America/Chicago:20220616T153000
DTSTAMP:20220414T151730Z
URL:https://dev.dscc.uic.edu/events/keshet-apachi-day-camps-in-chicagoland
 /
SUMMARY:Keshet Apachi Day Camps in Chicagoland
DESCRIPTION:&nbsp\;\n\nAn inclusive day camp with multiple locations throug
 hout Chicagoland\n\nKeshet and JCC Chicago work together to provide a full
 y inclusive camp experience for children with disabilities at each of thei
 r Apachi Day Camp sites.\n\nDepending on your camp location\, camp begins 
 between 9:00-9:30 a.m. and ends between 3:00-3:30 p.m. Half-day camp is al
 so offered at Apachi Village sites for young children.\n\nApachi Camp sess
 ions run throughout the summer. Please refer to your Apachi Day Camp of ch
 oice for specific information regarding camp session dates\, beginning and
  ending times\, cost for each camp and enrollment details.\n\nClick on the
  links below to access information about full-day  and half-day camps:\n\
 n 	Apachi Evanston is for children 3 years old to 7th grade and runs from 
 June 13 to Aug. 5\n 	Apachi Hyde Park\, for children 4 years old to 7th gr
 ade and runs from June 27 to Aug. 12\n 	Apachi Northside for children 4 ye
 ars old to 7th grade and runs from June 27 to Aug. 12\n 	Apachi Old Town f
 or children 4 years old to 7th grade and runs from July 27 to Aug. 12\n 	A
 pachi Rogers Park for children in kindergarten through 7th grade and runs 
 from June 21 to Aug. 12\n 	Elaine Frank Apachi for children 3 years old to
  7th grade and runs from June 13 to Aug. 5\n 	‘Z’ Frank Apachi for chi
 ldren 4 years old to 7th grade and runs from June 20 to Aug. 12\n\nApachi 
 Village Day Camp is a fun\, nurturing environment for the youngest campers
 . Camp is from 9:30 a.m. to 1 p.m.\n\n 	Apachi Village Lake Zurich is for 
 3- and 4-year-olds from June 13 to Aug. 5\n 	Apachi Village Northbrook is 
 for 3 and 4-year-olds from June 20 to Aug. 12\n 	Apachi Village Rogers Par
 k is for children ages 2 to 4 from June 21 to Aug. 12\n\nInclusive camp pr
 ogramming is made possible through the collaboration of Keshet\, JCC Chica
 go and the Jewish United Fund.\n\nJCC Chicago provides additional informat
 ion for parents on their website.\n\nVisit keshet.org for more information
  or contact Drew McNamara at dmcnamara@keshet.org or (847) 205-1234.
CATEGORIES:Camp
END:VEVENT
BEGIN:VTIMEZONE
TZID:America/Chicago
X-LIC-LOCATION:America/Chicago
BEGIN:DAYLIGHT
DTSTART:20220313T030000
TZOFFSETFROM:-0600
TZOFFSETTO:-0500
TZNAME:CDT
END:DAYLIGHT
END:VTIMEZONE
END:VCALENDAR