BEGIN:VCALENDAR
VERSION:2.0
PRODID:-//wp-events-plugin.com//7.2.3.1//EN
TZID:America/Chicago
X-WR-TIMEZONE:America/Chicago
BEGIN:VEVENT
UID:2108@dev.dscc.uic.edu
DTSTART;TZID=America/Chicago:20220620T093000
DTEND;TZID=America/Chicago:20220620T153000
DTSTAMP:20220223T012749Z
URL:https://dev.dscc.uic.edu/events/keshet-teen-tween-day-camp-skokie/
SUMMARY:Keshet Teen & Tween Day Camp-Skokie
DESCRIPTION:An inclusive day camp for youth ages 12 - 21\n\nKeshet Teen &am
 p\; Tween Day Camp will be taking place on June 20 - Aug. 12 from 9:30 a.m
 . to 3:30 p.m. Camp will be held at Ida Crown Jewish Academy\, 8233 Centra
 l Park Ave.\, in Skokie.\n\nTeen &amp\; Tween Day Camp is for youth with a
 nd without disabilities ages 12 to 21. Activities include:\n\n 	Sports\n 	
 Fitness and yoga\n 	Art and music\n 	Dance and drama\n\nSpecial events inc
 lude community outings to go swimming\, explore nature\, play at parks and
  volunteer with community organizations. Day camp is for youth with and wi
 thout disabilities ages 12 to 21.\n\nStudents who participate in Extended 
 School Year (ESY) in the mornings can join Teen &amp\; Tween Camp in the a
 fternoons for an additional fee.\n\nFor more information and to register\,
  visit https://keshet.org/our-programs/camps/\n\nFor questions regarding d
 ay camp\, contact Drew McNamara at dmcnamara@keshet.org or (847) 205-1234.
CATEGORIES:Camp
LOCATION:Ida Crown Jewish Academy\, 8233 Central Park Ave\, Skokie\, IL\, U
 nited States
X-APPLE-STRUCTURED-LOCATION;VALUE=URI;X-ADDRESS=8233 Central Park Ave\, Sko
 kie\, IL\, United States;X-APPLE-RADIUS=100;X-TITLE=Ida Crown Jewish Acade
 my:geo:0,0
END:VEVENT
BEGIN:VTIMEZONE
TZID:America/Chicago
X-LIC-LOCATION:America/Chicago
BEGIN:DAYLIGHT
DTSTART:20220313T030000
TZOFFSETFROM:-0600
TZOFFSETTO:-0500
TZNAME:CDT
END:DAYLIGHT
END:VTIMEZONE
END:VCALENDAR