BEGIN:VCALENDAR
VERSION:2.0
PRODID:-//wp-events-plugin.com//7.2.3.1//EN
TZID:America/Chicago
X-WR-TIMEZONE:America/Chicago
BEGIN:VEVENT
UID:763@dev.dscc.uic.edu
DTSTART;TZID=America/Chicago;VALUE=DATE:20170825
DTEND;TZID=America/Chicago;VALUE=DATE:20170828
DTSTAMP:20170609T182627Z
URL:https://dev.dscc.uic.edu/events/kids-on-the-spectrum-family-camp-in-or
 egon-il/
SUMMARY:Kids on the Spectrum Family Camp in Oregon\, IL
DESCRIPTION:Weekend family camp designed to celebrate families with childre
 n on the autism spectrum.\n\nThe camp provides families an opportunity to 
 meet new friends\, gain support and "explore where your puzzle piece 'fits
 .'"\n\nThe cost is $200 per family\, which includes meals and housing acco
 mmodations. Scholarships are available.\n\nContact Lutheran Outdoor Minist
 ries Center\, 1834 S. Illinois Route 2 in Oregon\, with questions and to r
 egister at (815) 732-2220.
CATEGORIES:Camp
LOCATION:Lutheran Outdoor Ministries Center\, 1834 S. Illinois Route 2\, Or
 egon\, IL\, 61061\, United States
GEO:41.9893383;-89.3392364
X-APPLE-STRUCTURED-LOCATION;VALUE=URI;X-ADDRESS=1834 S. Illinois Route 2\, 
 Oregon\, IL\, 61061\, United States;X-APPLE-RADIUS=100;X-TITLE=Lutheran Ou
 tdoor Ministries Center:geo:41.9893383,-89.3392364
END:VEVENT
BEGIN:VTIMEZONE
TZID:America/Chicago
X-LIC-LOCATION:America/Chicago
BEGIN:DAYLIGHT
DTSTART:20170312T030000
TZOFFSETFROM:-0600
TZOFFSETTO:-0500
TZNAME:CDT
END:DAYLIGHT
END:VTIMEZONE
END:VCALENDAR