BEGIN:VCALENDAR
VERSION:2.0
PRODID:-//wp-events-plugin.com//7.2.3.1//EN
TZID:America/Chicago
X-WR-TIMEZONE:America/Chicago
BEGIN:VEVENT
UID:613@dev.dscc.uic.edu
DTSTART;TZID=America/Chicago:20170415T100000
DTEND;TZID=America/Chicago:20170415T100000
DTSTAMP:20170126T222205Z
URL:https://dev.dscc.uic.edu/events/little-miracles-5k-in-springfield/
SUMMARY:Little Miracles 5K in Springfield
DESCRIPTION:Proceeds will help build the new NICU at HSHS St. John's Childr
 en's Hospital.\n\nThe Little Miracles 5K is a fundraiser to build a new ne
 onatal intensive care unit for premature babies at HSHS St. John's Childr
 en's Hospital in Springfield.\n\nThe walk and run is for all ages and ab
 ilities. The event begins at 10 a.m.\, with registration starting at 8 a
 .m.\n\nDiscounted registration costs are available until March 25. For mor
 e details and to register\, visit http://www.littlemiraclesrun.com/.
CATEGORIES:Fundraiser
LOCATION:Washington Park Pavillion\, 1501 South Grand Avenue W.\, Springfie
 ld\, Illinois\, 62704\, United States
GEO:39.7868646;-89.67778570000002
X-APPLE-STRUCTURED-LOCATION;VALUE=URI;X-ADDRESS=1501 South Grand Avenue W.\
 , Springfield\, Illinois\, 62704\, United States;X-APPLE-RADIUS=100;X-TITL
 E=Washington Park Pavillion:geo:39.7868646,-89.67778570000002
END:VEVENT
BEGIN:VTIMEZONE
TZID:America/Chicago
X-LIC-LOCATION:America/Chicago
BEGIN:DAYLIGHT
DTSTART:20170312T030000
TZOFFSETFROM:-0600
TZOFFSETTO:-0500
TZNAME:CDT
END:DAYLIGHT
END:VTIMEZONE
END:VCALENDAR