BEGIN:VCALENDAR
VERSION:2.0
PRODID:-//wp-events-plugin.com//7.2.3.1//EN
TZID:America/Chicago
X-WR-TIMEZONE:America/Chicago
BEGIN:VEVENT
UID:2654@dev.dscc.uic.edu
DTSTART;TZID=America/Chicago:20220926T110000
DTEND;TZID=America/Chicago:20220926T140000
DTSTAMP:20220908T171744Z
URL:https://dev.dscc.uic.edu/events/low-cost-computer-event-in-niles/
SUMMARY:Low-Cost Computer Event in Niles
DESCRIPTION:An event to get low-cost quality computers into the homes of in
 dividuals\, families and nonprofits with low income\n\nIllinois PCs for Pe
 ople is hosting a computer delivery event on Sept. 26 from 11 a.m. to 2 p.
 m.\n\nThe event is at Niles-Maine District Library Pop-Up Shop\, 6960 Oakt
 on St.\, in Niles.\n\nPCs for People is a national nonprofit that provides
  affordable technology and internet service to low-income individuals\, fa
 milies with children\, those with disabilities and nonprofits.\n\nPCs for 
 People works with various community partners statewide to receive and refu
 rbish computers that are redistributed to eligible residents to improve ac
 cess to:\n\n 	Remote learning\n 	Working from home\n 	Telemedicine\n 	Othe
 r requirements of everyday life\n\nTo be eligible\, residents must be belo
 w 135 percent of the poverty level and enrolled in income-based government
  assistance programs\, such as Supplemental Nutrition Assistance Program (
 SNAP)\, Medicaid or Federal Housing Assistance.\n\nSign up online for the 
 event if you are interested in receiving a computer\, internet or both.\n\
 nA customer service representative will contact you with more details\, av
 ailable financial aid and pick-up information.
CATEGORIES:Special Event
LOCATION:Niles-Maine District Library Pop-Up Shop\, 6960 Oakton St.\, Niles
 \, IL\, 60714 \, United States
X-APPLE-STRUCTURED-LOCATION;VALUE=URI;X-ADDRESS=6960 Oakton St.\, Niles\, I
 L\, 60714 \, United States;X-APPLE-RADIUS=100;X-TITLE=Niles-Maine District
  Library Pop-Up Shop:geo:0,0
END:VEVENT
BEGIN:VTIMEZONE
TZID:America/Chicago
X-LIC-LOCATION:America/Chicago
BEGIN:DAYLIGHT
DTSTART:20220313T030000
TZOFFSETFROM:-0600
TZOFFSETTO:-0500
TZNAME:CDT
END:DAYLIGHT
END:VTIMEZONE
END:VCALENDAR