BEGIN:VCALENDAR
VERSION:2.0
PRODID:-//wp-events-plugin.com//7.2.3.1//EN
TZID:America/Chicago
X-WR-TIMEZONE:America/Chicago
BEGIN:VEVENT
UID:656@dev.dscc.uic.edu
DTSTART;TZID=America/Chicago:20170726T090000
DTEND;TZID=America/Chicago:20170726T160000
DTSTAMP:20170706T160905Z
URL:https://dev.dscc.uic.edu/events/mchenry-countys-childrens-health-and-s
 afety-fair/
SUMMARY:McHenry County's Children’s Health and Safety Fair
DESCRIPTION:Interactive health and safety fair includes school physicals\, 
 immunizations and dental exams.\n\nThe 27th annual Children’s Health and
  Safety Fair is open to the public and includes:\n\n 	Door prizes and en
 tertainment\n 	School physicals - by appointment only\, call (779) 220-93
 00\n 	Reduced-cost immunizations - Medicaid accepted\, call (815) 334-4500
 \n 	Dental exams – Medicaid accepted\n\nStaff from the University of Ill
 inois at Chicago's Division of Specialized Care for Children's Rockford Re
 gional Office will also be there to explain how our programs can help the 
 families of children with special healthcare needs connect to services and
  resources.\n\nIf you child is receiving immunizations\, you must bring an
  updated shot record.  For more information\, call (815) 334-4500.\n\nMo
 re details are also available on the fair's Facebook page.
CATEGORIES:Health Fair
LOCATION:McHenry County College\, 8900 US Highway 14\, Crystal Lake\, IL \,
  United States
GEO:42.2591662;-88.36916919999999
X-APPLE-STRUCTURED-LOCATION;VALUE=URI;X-ADDRESS=8900 US Highway 14\, Crysta
 l Lake\, IL \, United States;X-APPLE-RADIUS=100;X-TITLE=McHenry County Col
 lege:geo:42.2591662,-88.36916919999999
END:VEVENT
BEGIN:VTIMEZONE
TZID:America/Chicago
X-LIC-LOCATION:America/Chicago
BEGIN:DAYLIGHT
DTSTART:20170312T030000
TZOFFSETFROM:-0600
TZOFFSETTO:-0500
TZNAME:CDT
END:DAYLIGHT
END:VTIMEZONE
END:VCALENDAR