BEGIN:VCALENDAR
VERSION:2.0
PRODID:-//wp-events-plugin.com//7.2.3.1//EN
TZID:America/Chicago
X-WR-TIMEZONE:America/Chicago
BEGIN:VEVENT
UID:1255@dev.dscc.uic.edu
DTSTART;TZID=America/Chicago;VALUE=DATE:20190707
DTEND;TZID=America/Chicago;VALUE=DATE:20190708
DTSTAMP:20190320T212626Z
URL:https://dev.dscc.uic.edu/events/mda-summer-camp-timber-pointe-outdoor-
 center-2/
SUMMARY:MDA Summer Camp - Timber Pointe Outdoor Center
DESCRIPTION:Free camping opportunity for youth ages 8 to 17.\n\nMDA Summer 
 Camp creates a world of possibilities for children living with muscular dy
 strophy and related diseases.\n\nThe Illinois MDA Camp is scheduled for Ti
 mber Pointe Outdoor Center in Hudson from July 7-12\n\nThe camp gives ki
 ds a chance to discover new interests while gaining self-confidence\, maki
 ng lifelong friendships and experiencing the independence of being away fr
 om home. Thanks to generous donors and partners\, MDA provides a safe\, in
 clusive summer camp experience at no cost to families.\n\nCamp offers a va
 riety of activities and programs such as arts and crafts\, sports and game
 s\, traditional camp activities and more. Every activity is adapted to the
  abilities of youngsters with neuromuscular disease. Plus\, campers are pa
 ired with camp counselors to help with activities of daily living and pers
 onal care.\n\nTo learn more and apply for your child to attend\, visit ht
 tps://www.mda.org/summer-camp/camper or contact Camp Director Emily Hall a
 t EmHall@mdausa.org or (312) 873-1440.
CATEGORIES:Camp
LOCATION:Timber Pointe Outdoor Center\, 20 Timber Pointe Drive\, Hudson\, I
 L\, 61748\, United States
GEO:40.6352794;-88.92011230000003
X-APPLE-STRUCTURED-LOCATION;VALUE=URI;X-ADDRESS=20 Timber Pointe Drive\, Hu
 dson\, IL\, 61748\, United States;X-APPLE-RADIUS=100;X-TITLE=Timber Pointe
  Outdoor Center:geo:40.6352794,-88.92011230000003
END:VEVENT
BEGIN:VTIMEZONE
TZID:America/Chicago
X-LIC-LOCATION:America/Chicago
BEGIN:DAYLIGHT
DTSTART:20190310T030000
TZOFFSETFROM:-0600
TZOFFSETTO:-0500
TZNAME:CDT
END:DAYLIGHT
END:VTIMEZONE
END:VCALENDAR