BEGIN:VCALENDAR
VERSION:2.0
PRODID:-//wp-events-plugin.com//7.2.3.1//EN
TZID:America/Chicago
X-WR-TIMEZONE:America/Chicago
BEGIN:VEVENT
UID:71@dev.dscc.uic.edu
DTSTART;TZID=America/Chicago:20141024T110000
DTEND;TZID=America/Chicago:20141024T170000
DTSTAMP:20141016T004145Z
URL:https://dev.dscc.uic.edu/events/mobility-expo-conference/
SUMMARY:Mobility Expo & Conference
DESCRIPTION:Enjoy free admission\, activities\, and over 80 exhibitors!\n\n
 Exhibitors will demonstrate and discuss assistive technology\, accessible 
 vehicles\, home modifications\, funding sources\, rehabilitation hospitals
 \,  and more. Professionals are available to answer your questions about 
 rehabilitation\, medical services\, adaptive driving\, and funding sources
 .\n\nActivities include music and art therapy\, exercise\, and adaptive sp
 orts.\n\nFor a complete list of activities and exhibitors\, or to register
 \, visit the Mobility Expo website.
CATEGORIES:Conference
LOCATION:Tinley Park Convention Center\, 18451 Convention Center Drive\, Ti
 nley Park\, Illinois\, 60477\, United States
GEO:41.5555048;-87.78946309999998
X-APPLE-STRUCTURED-LOCATION;VALUE=URI;X-ADDRESS=18451 Convention Center Dri
 ve\, Tinley Park\, Illinois\, 60477\, United States;X-APPLE-RADIUS=100;X-T
 ITLE=Tinley Park Convention Center:geo:41.5555048,-87.78946309999998
END:VEVENT
BEGIN:VTIMEZONE
TZID:America/Chicago
X-LIC-LOCATION:America/Chicago
BEGIN:DAYLIGHT
DTSTART:20140309T030000
TZOFFSETFROM:-0600
TZOFFSETTO:-0500
TZNAME:CDT
END:DAYLIGHT
END:VTIMEZONE
END:VCALENDAR