BEGIN:VCALENDAR
VERSION:2.0
PRODID:-//wp-events-plugin.com//7.2.3.1//EN
TZID:America/Chicago
X-WR-TIMEZONE:America/Chicago
BEGIN:VEVENT
UID:3021@dev.dscc.uic.edu
DTSTART;TZID=America/Chicago:20230507T083000
DTEND;TZID=America/Chicago:20230507T093000
DTSTAMP:20230220T122205Z
URL:https://dev.dscc.uic.edu/events/museum-of-science-and-industry-low-sen
 sory-morning-in-chicago/
SUMMARY:Museum of Science and Industry Low-Sensory Morning in Chicago
DESCRIPTION:A quieter\, low-sensory opportunity for guests to explore the M
 useum of Science and Industry\n\nThe Museum of Science and Industry Chicag
 o is hosting the next Low-Sensory Morning on May 7 from 8:30 to 9:30 a.m.\
 n\nLow-Sensory Mornings provide a quieter\, sensory-friendly environment f
 or guests to explore the museum's exhibits\, including Pompeii: The Exhibi
 tion.\n\nEnjoy the museum with fewer guests for one hour before it opens t
 o the public. Attendance at Low-Sensory Morning events is limited so that 
 everyone can enjoy a crowd-free experience.\n\nLow-Sensory Morning tickets
  are good for the entire day. Sensory-friendly accommodations continue unt
 il noon.\n\nTickets are available online.  All guests must register and b
 uy their tickets in advance.\n\nSee the museum's "Know Before You Go" page
  for COVID-19 policy information.\n\nTo help plan your visit\, see the mus
 eum's sensory map\, social narrative and communication book on its website
 .
CATEGORIES:Special Event
LOCATION:Museum of Science and Industry\, 5700 S. Lake Shore Drive\, Chicag
 o\, IL \, United States
GEO:41.79204379999999;-87.5829263
X-APPLE-STRUCTURED-LOCATION;VALUE=URI;X-ADDRESS=5700 S. Lake Shore Drive\, 
 Chicago\, IL \, United States;X-APPLE-RADIUS=100;X-TITLE=Museum of Science
  and Industry:geo:41.79204379999999,-87.5829263
END:VEVENT
BEGIN:VTIMEZONE
TZID:America/Chicago
X-LIC-LOCATION:America/Chicago
BEGIN:DAYLIGHT
DTSTART:20230312T030000
TZOFFSETFROM:-0600
TZOFFSETTO:-0500
TZNAME:CDT
END:DAYLIGHT
END:VTIMEZONE
END:VCALENDAR