BEGIN:VCALENDAR
VERSION:2.0
PRODID:-//wp-events-plugin.com//7.2.3.1//EN
TZID:America/Chicago
X-WR-TIMEZONE:America/Chicago
BEGIN:VEVENT
UID:1755@dev.dscc.uic.edu
DTSTART;TZID=America/Chicago;VALUE=DATE:20210713
DTEND;TZID=America/Chicago;VALUE=DATE:20210714
DTSTAMP:20210512T141729Z
URL:https://dev.dscc.uic.edu/events/north-star-reach-camp-discovery-at-hom
 e/
SUMMARY:North Star Reach Camp Discovery-at-Home
DESCRIPTION:&nbsp\;\n\nVirtual camp for youth ages 7-15 with epilepsy or a 
 neuro-oncology diagnosis\n\nNorth Star Reach is a fully accessible medical
  camp that serves children with significant health challenges and their fa
 milies\, all at no charge to them.\n\nNorth Star is offering a series of C
 amp-at-Home sessions for summer 2021. The sessions connect campers with si
 milar medical conditions and provide community-building experiences throug
 h secure online gathering spaces.\n\nCampers will enjoy an engaging lineup
  of real-time camp clubs with:\n\n 	Special guests\n 	Game-themed programs
 \n 	All-new camp-in-a-box experiences\n 	Cabin chats and more\n\nThese vir
 tual programs are offered at no charge.\n\nCamp Discovery is for youth age
 s 7-15 with epilepsy or a neuro-oncology diagnosis. It will take place Jul
 y 13-16.\n\nFor more information and to register\, visit the North Star Re
 ach website.\n\nThe registration deadline for the full camp experience\, i
 ncluding camp-in-a-box supplies\, is June 28.
CATEGORIES:Camp
END:VEVENT
BEGIN:VTIMEZONE
TZID:America/Chicago
X-LIC-LOCATION:America/Chicago
BEGIN:DAYLIGHT
DTSTART:20210314T030000
TZOFFSETFROM:-0600
TZOFFSETTO:-0500
TZNAME:CDT
END:DAYLIGHT
END:VTIMEZONE
END:VCALENDAR