BEGIN:VCALENDAR
VERSION:2.0
PRODID:-//wp-events-plugin.com//7.2.3.1//EN
TZID:America/Chicago
X-WR-TIMEZONE:America/Chicago
BEGIN:VEVENT
UID:174@dev.dscc.uic.edu
DTSTART;TZID=America/Chicago:20150130T100000
DTEND;TZID=America/Chicago:20150130T130000
DTSTAMP:20150120T193051Z
URL:https://dev.dscc.uic.edu/events/open-house-almost-home-kids-2/
SUMMARY:Open House - Almost Home Kids
DESCRIPTION:Take a tour and meet staff.\n\nAlmost Home Kids provides trans
 itional care in a home-like setting to children with complicated health ne
 eds\, training for their families and respite care.\n\nTo RSVP or for more
  information call Layenie Anderson at (630) 271-9155 extension 110 or emai
 l landerson@almosthomekids.org.\n\n&nbsp\;
LOCATION:Almost Home Kids (Naperville)\, 7S721 Route 53\, Naperville\, Illi
 nois\, 60540\, United States
GEO:41.7586234;-88.06384409999998
X-APPLE-STRUCTURED-LOCATION;VALUE=URI;X-ADDRESS=7S721 Route 53\, Naperville
 \, Illinois\, 60540\, United States;X-APPLE-RADIUS=100;X-TITLE=Almost Home
  Kids (Naperville):geo:41.7586234,-88.06384409999998
END:VEVENT
BEGIN:VTIMEZONE
TZID:America/Chicago
X-LIC-LOCATION:America/Chicago
BEGIN:STANDARD
DTSTART:20141102T010000
TZOFFSETFROM:-0500
TZOFFSETTO:-0600
TZNAME:CST
END:STANDARD
END:VTIMEZONE
END:VCALENDAR