BEGIN:VCALENDAR
VERSION:2.0
PRODID:-//wp-events-plugin.com//7.2.3.1//EN
TZID:America/Chicago
X-WR-TIMEZONE:America/Chicago
BEGIN:VEVENT
UID:3125@dev.dscc.uic.edu
DTSTART;TZID=America/Chicago;VALUE=DATE:20230607
DTEND;TZID=America/Chicago;VALUE=DATE:20230611
DTSTAMP:20230310T180124Z
URL:https://dev.dscc.uic.edu/events/parent-infant-institute-opening-doors-
 program-in-jacksonville/
SUMMARY:Parent Infant Institute/Opening Doors Program in Jacksonville
DESCRIPTION:A free\, multi-day conference for parents/caregivers of childre
 n with vision loss ages birth to five\n\nThe Illinois School for the Visua
 lly Impaired (ISVI) is hosting its Parent Infant Institute/Opening Doors P
 rogram from June 7 to 10.\n\nThe in-person event will be at the ISVI\, 658
  E. State St.\, in Jacksonville.\n\nThe multi-day event is for Illinois ca
 regivers and their children with visual impairments and additional disabil
 ities from birth to age 5. Support for families attending the event will i
 nclude:\n\n 	Information on your child based on observation and assessment
 \n 	A learning tool resource bag\n 	Help with making informed decisions on
  behalf of your child\n 	A make-it-take-it and networking activities\n\nTh
 e event will also include a formal dinner for parents.\n\nThis is the 40th
  year for the event.\n\nFor more details\, see the event flyer:\n\n 	Openi
 ng Doors Program flyer in English\n 	Opening Doors Program flyer in Spanis
 h\n\nFill out the Parent Infant Institute/Opening Doors Program applicatio
 n to attend.\n\nIf you have questions\, please contact Outreach Director M
 ichelle Clark at michelle.clark@illinois.gov.
CATEGORIES:Conference,Screening,Special Event,Training
LOCATION:Illinois School for the Visually Impaired\, 658 E. State Street\, 
 Jacksonville\, Illilnois\, 62650\, United States
GEO:39.7342219;-90.2183326
X-APPLE-STRUCTURED-LOCATION;VALUE=URI;X-ADDRESS=658 E. State Street\, Jacks
 onville\, Illilnois\, 62650\, United States;X-APPLE-RADIUS=100;X-TITLE=Ill
 inois School for the Visually Impaired:geo:39.7342219,-90.2183326
END:VEVENT
BEGIN:VTIMEZONE
TZID:America/Chicago
X-LIC-LOCATION:America/Chicago
BEGIN:DAYLIGHT
DTSTART:20230312T030000
TZOFFSETFROM:-0600
TZOFFSETTO:-0500
TZNAME:CDT
END:DAYLIGHT
END:VTIMEZONE
END:VCALENDAR