BEGIN:VCALENDAR
VERSION:2.0
PRODID:-//wp-events-plugin.com//7.2.3.1//EN
TZID:America/Chicago
X-WR-TIMEZONE:America/Chicago
BEGIN:VEVENT
UID:176@dev.dscc.uic.edu
DTSTART;TZID=America/Chicago:20150220T120000
DTEND;TZID=America/Chicago:20150220T140000
DTSTAMP:20150122T222021Z
URL:https://dev.dscc.uic.edu/events/parent-support-group-2/
SUMMARY:Parent Support Group
DESCRIPTION:Find out how to set SMART goals on IEPs.\n\nAt this free worksh
 op you'll hear from Rhonda Best of Family Matters. You will learn how to p
 articipate in the Individualized Education Program planning process and de
 sign specific\, measurable goals.\n\nThis group is open the public. Regist
 ration is requested by February 13th.\n\nTo register\, call Dawn or Shanno
 n at (815) 987-7571.
ATTACH;FMTTYPE=image/jpeg:https://dev.dscc.uic.edu/wp-content/uploads/2014
 /07/Fotolia_66783613_Support-Group-modified.jpg
CATEGORIES:Support Group
LOCATION:UIC Specialized Care for Children\, 4302 N Main Street\, Rockford\
 , Illinois\, 61103\, United States
GEO:42.322456;-89.07855899999998
X-APPLE-STRUCTURED-LOCATION;VALUE=URI;X-ADDRESS=4302 N Main Street\, Rockfo
 rd\, Illinois\, 61103\, United States;X-APPLE-RADIUS=100;X-TITLE=UIC Speci
 alized Care for Children:geo:42.322456,-89.07855899999998
END:VEVENT
BEGIN:VTIMEZONE
TZID:America/Chicago
X-LIC-LOCATION:America/Chicago
BEGIN:STANDARD
DTSTART:20141102T010000
TZOFFSETFROM:-0500
TZOFFSETTO:-0600
TZNAME:CST
END:STANDARD
END:VTIMEZONE
END:VCALENDAR