BEGIN:VCALENDAR
VERSION:2.0
PRODID:-//wp-events-plugin.com//7.2.3.1//EN
TZID:America/Chicago
X-WR-TIMEZONE:America/Chicago
BEGIN:VEVENT
UID:446@dev.dscc.uic.edu
DTSTART;TZID=America/Chicago:20150821T120000
DTEND;TZID=America/Chicago:20150821T140000
DTSTAMP:20150714T155618Z
URL:https://dev.dscc.uic.edu/events/parent-support-group-rockford/
SUMMARY:Parent Support Group - Rockford
DESCRIPTION:Learn to set goals for individualized education programs (IEPs)
 \n\nRose Slaght from Family Matters will present:  Let's Get SMART Goals 
 on Those IEPs!  You will learn how to design specific and measurable goal
 s for students that have an IEP.\n\nTo register\, call Dawn or Shannon at 
 (815) 987-7571 by Friday\, August 14th.
ATTACH;FMTTYPE=image/jpeg:https://dev.dscc.uic.edu/wp-content/uploads/2014
 /07/Fotolia_66783613_Support-Group-modified.jpg
CATEGORIES:Support Group
LOCATION:UIC Specialized Care for Children - Rockford Regional Office\, 430
 2 North Main Street\, Rockford \, IL\, 61103\, United States
GEO:42.322456;-89.07855899999998
X-APPLE-STRUCTURED-LOCATION;VALUE=URI;X-ADDRESS=4302 North Main Street\, Ro
 ckford \, IL\, 61103\, United States;X-APPLE-RADIUS=100;X-TITLE=UIC Specia
 lized Care for Children - Rockford Regional Office:geo:42.322456,-89.07855
 899999998
END:VEVENT
BEGIN:VTIMEZONE
TZID:America/Chicago
X-LIC-LOCATION:America/Chicago
BEGIN:DAYLIGHT
DTSTART:20150308T030000
TZOFFSETFROM:-0600
TZOFFSETTO:-0500
TZNAME:CDT
END:DAYLIGHT
END:VTIMEZONE
END:VCALENDAR