BEGIN:VCALENDAR
VERSION:2.0
PRODID:-//wp-events-plugin.com//7.2.3.1//EN
TZID:America/Chicago
X-WR-TIMEZONE:America/Chicago
BEGIN:VEVENT
UID:3918@dev.dscc.uic.edu
DTSTART;TZID=America/Chicago:20240208T173000
DTEND;TZID=America/Chicago:20240208T190000
DTSTAMP:20240129T145235Z
URL:https://dev.dscc.uic.edu/events/parents-and-caregivers-empowered-pace-
 event-in-eldorado/
SUMMARY:Parents and Caregivers Empowered (PACE) Event in Eldorado
DESCRIPTION:Bring the family and enjoy an evening of free food\, teamwork\,
  and fun getting ready for the big game!\n\nGetting ready for the big game
 ?\n\nBe sure your plans include attending the Egyptian Health Department's
  Parents and Caregivers Empowered (PACE) meeting on Feb. 8 beginning at 5:
 30 p.m. The meeting will be in the Eldorado High School cafetorium.\n\nThe
  night's theme will be "Families are a TEAM that works TOGETHER!" Families
  will enjoy free:\n\n 	Food\n 	Activities\n 	Prizes and more\n\nThere will
  also be time to explore programs and resources including:\n\n 	Integrated
  Care for Kids with Egyptian Health Department InCK\n 	CATCH onto Health\n
  	WIC (Special Supplemental Nutrition Program for Women\, Infants and Chil
 dren)\n 	Food and nutrition with the University of Illinois Extension SNAP
 -Ed\n\nSee the PACE flyer for more details.\n\nFor more information\, cont
 act Family Resource Program Manager Tonya Hardy at (618) 273-3326\, ext. 2
 006\, or thardy@egyptian.org.
CATEGORIES:Resource Fair,Special Event
LOCATION:Eldorado High School\, 2200 Illinois Ave.\, Eldorado\, Illinois\, 
 62930\, United States
X-APPLE-STRUCTURED-LOCATION;VALUE=URI;X-ADDRESS=2200 Illinois Ave.\, Eldora
 do\, Illinois\, 62930\, United States;X-APPLE-RADIUS=100;X-TITLE=Eldorado 
 High School:geo:0,0
END:VEVENT
BEGIN:VTIMEZONE
TZID:America/Chicago
X-LIC-LOCATION:America/Chicago
BEGIN:STANDARD
DTSTART:20231105T010000
TZOFFSETFROM:-0500
TZOFFSETTO:-0600
TZNAME:CST
END:STANDARD
END:VTIMEZONE
END:VCALENDAR