BEGIN:VCALENDAR
VERSION:2.0
PRODID:-//wp-events-plugin.com//7.2.3.1//EN
TZID:America/Chicago
X-WR-TIMEZONE:America/Chicago
BEGIN:VEVENT
UID:535@dev.dscc.uic.edu
DTSTART;TZID=America/Chicago:20160430T081500
DTEND;TZID=America/Chicago:20160430T160000
DTSTAMP:20160329T140022Z
URL:https://dev.dscc.uic.edu/events/parents-for-children-with-hearing-loss
 -conference/
SUMMARY:Parents for Children with Hearing Loss Conference
DESCRIPTION:Free conference for youth age 15 and up\, parents and professio
 nals.\n\nLearn about the differences and challenges individuals with heari
 ng loss encounter\, the ABC's of individualized education plans\, growing 
 up deaf\, and technology.\n\nFinancial assistance for travel and lodging m
 ay be available to parents.\n\nCPDU and EI credits are available to profes
 sionals.\n\nFor more information\, check out the Parents of Children wit
 h Hearing Loss Conference Registration Form.
CATEGORIES:Conference
LOCATION:Mt Vernon Primary Center\, 401 N 30th St\, Mt Vernon\, IL\, United
  States
GEO:48.423661;-122.30229700000001
X-APPLE-STRUCTURED-LOCATION;VALUE=URI;X-ADDRESS=401 N 30th St\, Mt Vernon\,
  IL\, United States;X-APPLE-RADIUS=100;X-TITLE=Mt Vernon Primary Center:ge
 o:48.423661,-122.30229700000001
END:VEVENT
BEGIN:VTIMEZONE
TZID:America/Chicago
X-LIC-LOCATION:America/Chicago
BEGIN:DAYLIGHT
DTSTART:20160313T030000
TZOFFSETFROM:-0600
TZOFFSETTO:-0500
TZNAME:CDT
END:DAYLIGHT
END:VTIMEZONE
END:VCALENDAR