BEGIN:VCALENDAR
VERSION:2.0
PRODID:-//wp-events-plugin.com//7.2.3.1//EN
TZID:America/Chicago
X-WR-TIMEZONE:America/Chicago
BEGIN:VEVENT
UID:347@dev.dscc.uic.edu
DTSTART;TZID=America/Chicago:20150516T094500
DTEND;TZID=America/Chicago:20150516T130000
DTSTAMP:20150413T145033Z
URL:https://dev.dscc.uic.edu/events/pku-organization-family-fund-day/
SUMMARY:PKU Organization Family Fund Day
DESCRIPTION:Help raise funds for the National PKU Alliance.\n\nEnjoy a day 
 at the zoo and your donation benefits Phenylketonuria (PKU). By donating a
  suggested $25 for a family\, you can enjoy all the zoo exhibits\, up-clos
 e animal encounters\, free lunch\, yard games\, and vendors. RSVP is reque
 sted by May 5th.\n\nFor more information\, email pkuillinois@gmail.com.
ATTACH;FMTTYPE=image/jpeg:https://dev.dscc.uic.edu/wp-content/uploads/2015
 /04/PKU-zoo-flyer-modified.png
CATEGORIES:Fundraiser
LOCATION:Cosley Zoo\, 1356 N. Gary Avenue\, Wheaton\, Illinois\, 60187\, Un
 ited States
GEO:41.8783467;-88.1207918
X-APPLE-STRUCTURED-LOCATION;VALUE=URI;X-ADDRESS=1356 N. Gary Avenue\, Wheat
 on\, Illinois\, 60187\, United States;X-APPLE-RADIUS=100;X-TITLE=Cosley Zo
 o:geo:41.8783467,-88.1207918
END:VEVENT
BEGIN:VTIMEZONE
TZID:America/Chicago
X-LIC-LOCATION:America/Chicago
BEGIN:DAYLIGHT
DTSTART:20150308T030000
TZOFFSETFROM:-0600
TZOFFSETTO:-0500
TZNAME:CDT
END:DAYLIGHT
END:VTIMEZONE
END:VCALENDAR