BEGIN:VCALENDAR
VERSION:2.0
PRODID:-//wp-events-plugin.com//7.2.3.1//EN
TZID:America/Chicago
X-WR-TIMEZONE:America/Chicago
BEGIN:VEVENT
UID:830@dev.dscc.uic.edu
DTSTART;TZID=America/Chicago:20170913T170000
DTEND;TZID=America/Chicago:20170913T200000
DTSTAMP:20170907T162742Z
URL:https://dev.dscc.uic.edu/events/plainfield-community-resource-fair/
SUMMARY:Plainfield Community Resource Fair
DESCRIPTION:Free event outlining community services in Will county\n\nPlai
 nfield East High School is pleased to present the 11th Annual Community Re
 source Fair. This fair offers information on food pantries\, colleges\, em
 ployment assistance\, mental health\, bilingual services\, libraries\, fam
 ily recreation\, emergency assistance\, financial resources and hospitals.
  Free popcorn and a free raffle are included.\n\nThis event is free and op
 en to the public. Click here for more information. Stop by our booth to ta
 lk with staff about our services.
CATEGORIES:Health Fair
LOCATION:Plainfield East High School\, 12001 S. Naperville Road\, Plainfiel
 d\, Illinois\, 60585\, United States
GEO:41.6649235;-88.17392189999998
X-APPLE-STRUCTURED-LOCATION;VALUE=URI;X-ADDRESS=12001 S. Naperville Road\, 
 Plainfield\, Illinois\, 60585\, United States;X-APPLE-RADIUS=100;X-TITLE=P
 lainfield East High School:geo:41.6649235,-88.17392189999998
END:VEVENT
BEGIN:VTIMEZONE
TZID:America/Chicago
X-LIC-LOCATION:America/Chicago
BEGIN:DAYLIGHT
DTSTART:20170312T030000
TZOFFSETFROM:-0600
TZOFFSETTO:-0500
TZNAME:CDT
END:DAYLIGHT
END:VTIMEZONE
END:VCALENDAR