BEGIN:VCALENDAR
VERSION:2.0
PRODID:-//wp-events-plugin.com//7.2.3.1//EN
TZID:America/Chicago
X-WR-TIMEZONE:America/Chicago
BEGIN:VEVENT
UID:608@dev.dscc.uic.edu
DTSTART;TZID=America/Chicago:20170224T090000
DTEND;TZID=America/Chicago:20170224T123000
DTSTAMP:20170112T155653Z
URL:https://dev.dscc.uic.edu/events/planning-for-the-future-for-children-a
 dults-with-intellectualdevelopmental-disabilities/
SUMMARY:"Planning for the Future for Children & Adults with Intellectual/De
 velopmental Disabilities"
DESCRIPTION:What you need to know about special needs estate and future pla
 nning and government benefits.\n\nThis event\, presented by the Arc of Ill
 inois\, is aimed at families who are preparing for their child's transitio
 n to adulthood. Topics covered will include:\n\n 	Government benefits and
  programs in Illinois for children and adults with special needs… and h
 ow to navigate the “maze.”\n 	Appropriate special needs estate plannin
 g that is necessary to qualify for\, and in order not to lose\, governmen
 t benefits.\n 	Guardianship and alternatives.\n 	Guidance on preparing ins
 tructions and thoughts for future care providers.\n\nClick here for more 
 information and to register. Different fees are available for Arc members
  and non-members.
CATEGORIES:Workshop
LOCATION:Ray Graham Association\, Lower Level Conference Room\, 801 Warrenv
 ille Rd.\, Lisle\, IL\, 60532\, United States
GEO:41.8076003;-88.06849840000001
X-APPLE-STRUCTURED-LOCATION;VALUE=URI;X-ADDRESS=801 Warrenville Rd.\, Lisle
 \, IL\, 60532\, United States;X-APPLE-RADIUS=100;X-TITLE=Ray Graham Associ
 ation\, Lower Level Conference Room:geo:41.8076003,-88.06849840000001
END:VEVENT
BEGIN:VTIMEZONE
TZID:America/Chicago
X-LIC-LOCATION:America/Chicago
BEGIN:STANDARD
DTSTART:20161106T010000
TZOFFSETFROM:-0500
TZOFFSETTO:-0600
TZNAME:CST
END:STANDARD
END:VTIMEZONE
END:VCALENDAR