BEGIN:VCALENDAR
VERSION:2.0
PRODID:-//wp-events-plugin.com//7.2.3.1//EN
TZID:America/Chicago
X-WR-TIMEZONE:America/Chicago
BEGIN:VEVENT
UID:1119@dev.dscc.uic.edu
DTSTART;TZID=America/Chicago:20180915T100000
DTEND;TZID=America/Chicago:20180915T120000
DTSTAMP:20180906T214512Z
URL:https://dev.dscc.uic.edu/events/pony-party-in-makanda/
SUMMARY:Pony Party in Makanda
DESCRIPTION:Special event hosted by Southern Illinois Down Syndrome Communi
 ty Group.\n\nTake turns riding ponies (lead by a wrangler) from 10 to 11 a
 .m. Please RSVP by Sept. 10 so enough ponies and wranglers will be availa
 ble for everyone to ride.  Those who do not RSVP may not get the chance 
 to ride.  The weight limit for pony rides is 200 pounds.\n\nHot dogs and 
 marshmallows will be available around the campfire from 11 a.m. to noon.
CATEGORIES:Special Event
LOCATION:Giant City Stables\, 722 Giant City Rd\, Makanda\, IL\, 62958\, Un
 ited States
GEO:37.6090877;-89.18688629999997
X-APPLE-STRUCTURED-LOCATION;VALUE=URI;X-ADDRESS=722 Giant City Rd\, Makanda
 \, IL\, 62958\, United States;X-APPLE-RADIUS=100;X-TITLE=Giant City Stable
 s:geo:37.6090877,-89.18688629999997
END:VEVENT
BEGIN:VTIMEZONE
TZID:America/Chicago
X-LIC-LOCATION:America/Chicago
BEGIN:DAYLIGHT
DTSTART:20180311T030000
TZOFFSETFROM:-0600
TZOFFSETTO:-0500
TZNAME:CDT
END:DAYLIGHT
END:VTIMEZONE
END:VCALENDAR