BEGIN:VCALENDAR
VERSION:2.0
PRODID:-//wp-events-plugin.com//7.2.3.1//EN
TZID:America/Chicago
X-WR-TIMEZONE:America/Chicago
BEGIN:VEVENT
UID:3563@dev.dscc.uic.edu
DTSTART;TZID=America/Chicago:20230805T100000
DTEND;TZID=America/Chicago:20230805T110000
DTSTAMP:20230801T213517Z
URL:https://dev.dscc.uic.edu/events/popsicles-at-the-splash-pad-for-famili
 es-with-children-with-hearing-loss-in-quincy/
SUMMARY:Popsicles at the Splash Pad for Families with Children with Hearing
  Loss in Quincy
DESCRIPTION:Free popsicles and lots of fun for area families with children 
 who are deaf or hard of hearing\n\nJoin Illinois Hands &amp\; Voices\, Gui
 de by Your Side for "Popsicles at the Splashpad" on Aug. 5 beginning at 10
  a.m.\n\nHave a "splash-tastic" time at the Washington Park splash pad!\n\
 nEnjoy meeting other families with children with hearing loss\, relaxing i
 n the cool water at the splash pad and eating popsicles. It's a great oppo
 rtunity to:\n\n 	Beat the heat\n 	Make new friends\n 	Build a support netw
 ork for you and your child\n\nSee the Popscicles at the Splashpad flyer fo
 r the QR code and more details.\n\nYou can sign up online for Popsicles at
  the Splash Pad to receive more information and a reminder.
CATEGORIES:Special Event
LOCATION:Washington Park Splash Pad\, North Fifth St\,\, Quincy\, Illinois\
 , 62301\, United States
X-APPLE-STRUCTURED-LOCATION;VALUE=URI;X-ADDRESS=North Fifth St\,\, Quincy\,
  Illinois\, 62301\, United States;X-APPLE-RADIUS=100;X-TITLE=Washington Pa
 rk Splash Pad:geo:0,0
END:VEVENT
BEGIN:VTIMEZONE
TZID:America/Chicago
X-LIC-LOCATION:America/Chicago
BEGIN:DAYLIGHT
DTSTART:20230312T030000
TZOFFSETFROM:-0600
TZOFFSETTO:-0500
TZNAME:CDT
END:DAYLIGHT
END:VTIMEZONE
END:VCALENDAR