BEGIN:VCALENDAR
VERSION:2.0
PRODID:-//wp-events-plugin.com//7.2.3.1//EN
TZID:America/Chicago
X-WR-TIMEZONE:America/Chicago
BEGIN:VEVENT
UID:580@dev.dscc.uic.edu
DTSTART;TZID=America/Chicago:20160927T130000
DTEND;TZID=America/Chicago:20160927T150000
DTSTAMP:20160711T131922Z
URL:https://dev.dscc.uic.edu/events/potty-training-workshop-4/
SUMMARY:Potty Training Workshop
DESCRIPTION:Need help getting on the right track to potty training success
 ?\n\nJoin Parent Educators fro the Parent Place for a free workshop.  Li
 ght snacks\, door prizes and certificates of completion will be available 
 to all attendees.\n\nReserve your spot by calling (217) 753-8730 extension
  102.
CATEGORIES:Workshop
LOCATION:The Parent Place\,  314 S Grand Ave W\, Springfield \, IL\, United
  States
GEO:39.7868556;-89.6580171
X-APPLE-STRUCTURED-LOCATION;VALUE=URI;X-ADDRESS= 314 S Grand Ave W\, Spring
 field \, IL\, United States;X-APPLE-RADIUS=100;X-TITLE=The Parent Place:ge
 o:39.7868556,-89.6580171
END:VEVENT
BEGIN:VTIMEZONE
TZID:America/Chicago
X-LIC-LOCATION:America/Chicago
BEGIN:DAYLIGHT
DTSTART:20160313T030000
TZOFFSETFROM:-0600
TZOFFSETTO:-0500
TZNAME:CDT
END:DAYLIGHT
END:VTIMEZONE
END:VCALENDAR