BEGIN:VCALENDAR
VERSION:2.0
PRODID:-//wp-events-plugin.com//7.2.3.1//EN
TZID:America/Chicago
X-WR-TIMEZONE:America/Chicago
BEGIN:VEVENT
UID:5550@dev.dscc.uic.edu
DTSTART;TZID=America/Chicago;VALUE=DATE:20250623
DTEND;TZID=America/Chicago;VALUE=DATE:20250624
DTSTAMP:20250506T142707Z
URL:https://dev.dscc.uic.edu/events/pre-employment-transition-services-ill
 inois-stem-week-for-students-who-are-deaf-and-hard-of-hearing-in-normal/
SUMMARY:Pre-Employment Transition Services - Illinois STEM Week for Student
 s Who Are Deaf and Hard of Hearing in Normal
DESCRIPTION:Opportunity for college-bound students ages 14 to 19 who are de
 af or hard of hearing to explore their career interest in science\, techno
 logy\, engineering and math (STEM)\n\nJoin the Rochester Institute of Tech
 nology’s National Technical Institute for the Deaf and the Illinois Depa
 rtment of Human Services (DHS)\, Division of Rehabilitation Services\, for
  Pre-Employment Transition Services (Pre-ETS) -Illinois STEM Week on June 
 23 to 28 at Illinois State University in Normal.\n\nThe program is open to
  all eligible Illinois high school students ages 14 to 19 who are deaf or 
 hard of hearing. Students must have approval from DHS Department of Vocati
 onal Rehabilitation.\n\nStudents will:\n\n 	Get hands-on experience in tec
 hnology and specialized skills\n 	Build confidence and develop decision-ma
 king skills\n 	Participate in unique and interesting engineering challenge
 s\n 	Make new friends from throughout Illinois and have fun\n\nStudents wi
 ll also have an opportunity to work with career counselors and faculty in 
 small group settings to determine their interests and explore STEM career 
 options.\n\nSee the Illinois STEM Week flyer for more details.\n\nVisit th
 e Rochester Institute of Technology’s National Technical Institute for t
 he Deaf website to sign up.\n\nFor more information\, contact Yvette Chire
 nje at:\n\n 	Email: Yvette.Chirenje@rit.edu\n 	Voice: (585) 475-7695\n 	Vi
 deophone: (585) 286-4555\n\n
CATEGORIES:Camp,Education
LOCATION:Illinois State University Alumni Center\, 1101 North Main Street\,
  Normal\, IL\, United States
GEO:40.5255009;-88.99643789999999
X-APPLE-STRUCTURED-LOCATION;VALUE=URI;X-ADDRESS=1101 North Main Street\, No
 rmal\, IL\, United States;X-APPLE-RADIUS=100;X-TITLE=Illinois State Univer
 sity Alumni Center:geo:40.5255009,-88.99643789999999
END:VEVENT
BEGIN:VTIMEZONE
TZID:America/Chicago
X-LIC-LOCATION:America/Chicago
BEGIN:DAYLIGHT
DTSTART:20250309T030000
TZOFFSETFROM:-0600
TZOFFSETTO:-0500
TZNAME:CDT
END:DAYLIGHT
END:VTIMEZONE
END:VCALENDAR