BEGIN:VCALENDAR
VERSION:2.0
PRODID:-//wp-events-plugin.com//7.2.3.1//EN
TZID:America/Chicago
X-WR-TIMEZONE:America/Chicago
BEGIN:VEVENT
UID:1131@dev.dscc.uic.edu
DTSTART;TZID=America/Chicago:20181129T143000
DTEND;TZID=America/Chicago:20181129T163000
DTSTAMP:20180914T213603Z
URL:https://dev.dscc.uic.edu/events/proactive-parenting-approach-for-posit
 ive-results-workshop-in-chicago/
SUMMARY:Proactive Parenting Approach for Positive Results Workshop in Chica
 go
DESCRIPTION:Parent workshop about proactive parenting techniques.\n\nJoin o
 ther parents on Nov. 29 at this workshop to help you fulfill children's em
 otional needs that foster good behavior and minimize power struggles.  Re
 cognize that all behaviors are trying to tell us something.  Children mis
 behave for a reason.  As we become better equipped\, we can address these
  behaviors in a more strategic\, positive way and see more positive result
 s.\n\nTo register\, visit STARNET Region V. For more information\, visit w
 ww.starnetchicago.org/copy-of-training-1.\n\n&nbsp\;
CATEGORIES:Workshop
LOCATION:CPS Garfield Park\, 2651 W. Washington Blvd.\, Chicago\, IL\, 6061
 2\, United States
GEO:41.8826702;-87.69291420000002
X-APPLE-STRUCTURED-LOCATION;VALUE=URI;X-ADDRESS=2651 W. Washington Blvd.\, 
 Chicago\, IL\, 60612\, United States;X-APPLE-RADIUS=100;X-TITLE=CPS Garfie
 ld Park:geo:41.8826702,-87.69291420000002
END:VEVENT
BEGIN:VTIMEZONE
TZID:America/Chicago
X-LIC-LOCATION:America/Chicago
BEGIN:STANDARD
DTSTART:20181104T010000
TZOFFSETFROM:-0500
TZOFFSETTO:-0600
TZNAME:CST
END:STANDARD
END:VTIMEZONE
END:VCALENDAR