BEGIN:VCALENDAR
VERSION:2.0
PRODID:-//wp-events-plugin.com//7.2.3.1//EN
TZID:America/Chicago
X-WR-TIMEZONE:America/Chicago
BEGIN:VEVENT
UID:2714@dev.dscc.uic.edu
DTSTART;TZID=America/Chicago:20221209T120000
DTEND;TZID=America/Chicago:20221209T130000
DTSTAMP:20221122T170620Z
URL:https://dev.dscc.uic.edu/events/programa-ligas-family-advocate-tallere
 s-en-espanol-conoce-tus-opciones-3/
SUMMARY:Programa Ligas Family Advocate Talleres en Español: Conoce Tus Opc
 iones!
DESCRIPTION:&nbsp\;\n\nPara los individuos seleccionados de PUNS en el 2021
 \, sus familiares y defensores\, venga con nosotros!\n\nDec. 9 at 12 p.m. 
 to 1 p.m.\n\nY aquellos que ya recibieron la carta de notificación tempra
 na en Diciembre 2021 para la selección de 2022.\n\nEn estos talleres les 
 presentaremos como preparar para su cita con la agencia coordinadora de se
 rvicios\, vamos a explorar los beneficios del programa y le conectaremos c
 on recursos y mas!\n\n 	Introducción a la Exención de Medicaid Del Hogar
  y la Comunidad\n 	Cuales son los servicios y apoyos que le ofrece el prog
 rama\n 	La preparación para este proceso\n 	Recursos\, planificación\, a
 sesoría y educación por el Programa Ligas Family Advocate de Arc of Illi
 nois\n\nREGISTRACION NECESARIA Con el enlace abajo se registra una vez y l
 e daremos acceso a toda la serie de talleres. Todos los SEGUNDOS VIERNES d
 e cada mes.\n\nRegístrese en línea para asistir aquí.
CATEGORIES:Webinar
END:VEVENT
BEGIN:VTIMEZONE
TZID:America/Chicago
X-LIC-LOCATION:America/Chicago
BEGIN:STANDARD
DTSTART:20221106T010000
TZOFFSETFROM:-0500
TZOFFSETTO:-0600
TZNAME:CST
END:STANDARD
END:VTIMEZONE
END:VCALENDAR