BEGIN:VCALENDAR
VERSION:2.0
PRODID:-//wp-events-plugin.com//7.2.3.1//EN
TZID:America/Chicago
X-WR-TIMEZONE:America/Chicago
BEGIN:VEVENT
UID:3552@dev.dscc.uic.edu
DTSTART;TZID=America/Chicago:20230718T160000
DTEND;TZID=America/Chicago:20230718T163000
DTSTAMP:20230718T152449Z
URL:https://dev.dscc.uic.edu/events/red-kite-friendship-tour-2023-in-skoki
 e/
SUMMARY:Red Kite Friendship Tour 2023 in Skokie
DESCRIPTION:Free\, sensory-friendly event for children on the autism spectr
 um and their families\n\nThe Chicago Children’s Theatre invites you to t
 he Red Kite Friendship Tour 2023! Events will be held throughout the Chic
 agoland area between July 18 and Aug. 15.\n\nCatch "Red Kite Green Mountai
 n" at the Skokie Public Library on July 18 from 4 to 4:30 p.m.\n\nThis 30-
 minute\, sensory-friendly experience will be led by three specially traine
 d theater artists. Kids and their families will enjoy upbeat music\, dance
  and other guided\, interactive activities.\n\nThe Red Kite Friendship Tou
 r events are designed for youth on the autism spectrum but are open to all
  children and their families.\n\nSee a list of locations and upcoming even
 ts.\n\nRegister for the Skokie Public Library event. The event is free. Re
 gistration is required.
CATEGORIES:Special Event
LOCATION:Skokie Public Library\, 5215 Oakton St. \, Skokie\, Illinois\, 600
 77\, United States
X-APPLE-STRUCTURED-LOCATION;VALUE=URI;X-ADDRESS=5215 Oakton St. \, Skokie\,
  Illinois\, 60077\, United States;X-APPLE-RADIUS=100;X-TITLE=Skokie Public
  Library:geo:0,0
END:VEVENT
BEGIN:VTIMEZONE
TZID:America/Chicago
X-LIC-LOCATION:America/Chicago
BEGIN:DAYLIGHT
DTSTART:20230312T030000
TZOFFSETFROM:-0600
TZOFFSETTO:-0500
TZNAME:CDT
END:DAYLIGHT
END:VTIMEZONE
END:VCALENDAR