BEGIN:VCALENDAR
VERSION:2.0
PRODID:-//wp-events-plugin.com//7.2.3.1//EN
TZID:America/Chicago
X-WR-TIMEZONE:America/Chicago
BEGIN:VEVENT
UID:817@dev.dscc.uic.edu
DTSTART;TZID=America/Chicago:20171116T103000
DTEND;TZID=America/Chicago:20171116T123000
DTSTAMP:20170828T192330Z
URL:https://dev.dscc.uic.edu/events/rockford-be-strong-families-parent-caf
 es-2/
SUMMARY:Rockford Be Strong Families Parent Cafes
DESCRIPTION:&nbsp\;\n\nTraining session for parents who are involved with D
 CFS.\n\nYWCA La Voz Latina Parent Cafes engage parents in meaningful conve
 rsations about what matters most - their family and how to strengthen that
  family by building protective factors. The Parent Cafes are focused on bu
 ilding the five researched-based protective factors that lessen the negati
 ve effects of trauma.\n\nThis training session focuses on Relationships a
 nd is Nov. 16 at 10:30 a.m.\n\nParents must RSVP two weeks prior to sched
 uled session. RSVP by calling or emailing Jordyn at jordynj@ywcanwil.org o
 r (815) 968-9681\, ext. 318. CYCIS (Child and Youth Centered Information S
 ystem) ID is required prior to training. No other referrals or paperwork i
 s necessary.\n\nThere is no cost to attend the Parent Cafés and snacks wi
 ll be provided. Child care will not be provided during the session\, so pa
 rents must make alternate arrangements in advance. All sessions will be fa
 cilitated in English. Please call for questions regarding Spanish-speaking
  participants who may be interested in attending.
CATEGORIES:Training
LOCATION:YWCA\, 4990 E. State Street\, Rockford\, IL\, 61108\, United State
 s
GEO:42.2671366;-89.02061079999998
X-APPLE-STRUCTURED-LOCATION;VALUE=URI;X-ADDRESS=4990 E. State Street\, Rock
 ford\, IL\, 61108\, United States;X-APPLE-RADIUS=100;X-TITLE=YWCA:geo:42.2
 671366,-89.02061079999998
END:VEVENT
BEGIN:VTIMEZONE
TZID:America/Chicago
X-LIC-LOCATION:America/Chicago
BEGIN:STANDARD
DTSTART:20171105T010000
TZOFFSETFROM:-0500
TZOFFSETTO:-0600
TZNAME:CST
END:STANDARD
END:VTIMEZONE
END:VCALENDAR