BEGIN:VCALENDAR
VERSION:2.0
PRODID:-//wp-events-plugin.com//7.2.3.1//EN
TZID:America/Chicago
X-WR-TIMEZONE:America/Chicago
BEGIN:VEVENT
UID:907@dev.dscc.uic.edu
DTSTART;TZID=America/Chicago:20180119T120000
DTEND;TZID=America/Chicago:20180119T133000
DTSTAMP:20180105T174058Z
URL:https://dev.dscc.uic.edu/events/rockford-support-group-for-parents-of-
 children-with-special-healthcare-needs-3/
SUMMARY:Rockford Support Group for Parents of Children with Special Healthc
 are Needs
DESCRIPTION:Learn how to be a champion for your child from DSCC's Family Li
 aison.\n\nThe University of Illinois at Chicago's Division of Specialized 
 Care for Children's (DSCC) Rockford Regional Office is hosting its monthly
  support group meeting for parents of children with special healthcare nee
 ds from noon to 1:30 p.m. on Jan. 19.\n\nDSCC Family Liaison Gina Jones wi
 ll discuss how to be a champion for your child\, including developing care
  maps and partnering with your child's healthcare providers.\n\nThe group 
 is open to the public and there is no charge for attending\, however regi
 stration is required. Please call Dawn or Shannon at (815) 987-7571 to reg
 ister by Jan. 12.\n\n&nbsp\;
ATTACH;FMTTYPE=image/jpeg:https://dev.dscc.uic.edu/wp-content/uploads/2014
 /07/Fotolia_66783613_Support-Group-modified.jpg
CATEGORIES:Support Group
LOCATION:UIC Specialized Care for Children - Rockford Regional Office\, 430
 2 North Main Street\, Rockford \, IL\, 61103\, United States
GEO:42.322456;-89.07855899999998
X-APPLE-STRUCTURED-LOCATION;VALUE=URI;X-ADDRESS=4302 North Main Street\, Ro
 ckford \, IL\, 61103\, United States;X-APPLE-RADIUS=100;X-TITLE=UIC Specia
 lized Care for Children - Rockford Regional Office:geo:42.322456,-89.07855
 899999998
END:VEVENT
BEGIN:VTIMEZONE
TZID:America/Chicago
X-LIC-LOCATION:America/Chicago
BEGIN:STANDARD
DTSTART:20171105T010000
TZOFFSETFROM:-0500
TZOFFSETTO:-0600
TZNAME:CST
END:STANDARD
END:VTIMEZONE
END:VCALENDAR