BEGIN:VCALENDAR
VERSION:2.0
PRODID:-//wp-events-plugin.com//7.2.3.1//EN
TZID:America/Chicago
X-WR-TIMEZONE:America/Chicago
BEGIN:VEVENT
UID:584@dev.dscc.uic.edu
DTSTART;TZID=America/Chicago:20160726T140000
DTEND;TZID=America/Chicago:20160726T164500
DTSTAMP:20160711T132435Z
URL:https://dev.dscc.uic.edu/events/safe-at-school/
SUMMARY:Safe at School
DESCRIPTION:Learn how everyone can work together to keep children with diab
 etes safe at school.\n\nThe Prairie Diabetes Alliance is hosting this fre
 e seminar. Teachers\, administrators\, and school-designated care aids a
 re invited from 2:00 pm - 3:15 pm. Families can attend from 3:30 pm - 4:4
 5 pm.\n\nFor more information contact Vanessa Wiseman at (217) 875-9011 ex
 tension 6642.
CATEGORIES:Workshop
LOCATION:Dove Conference Center at St. John's Hospital\, 619 E. Mason Stree
 t\, Springfield\, Illinois\, 62703\, United States
GEO:39.805789;-89.64583249999998
X-APPLE-STRUCTURED-LOCATION;VALUE=URI;X-ADDRESS=619 E. Mason Street\, Sprin
 gfield\, Illinois\, 62703\, United States;X-APPLE-RADIUS=100;X-TITLE=Dove 
 Conference Center at St. John's Hospital:geo:39.805789,-89.64583249999998
END:VEVENT
BEGIN:VTIMEZONE
TZID:America/Chicago
X-LIC-LOCATION:America/Chicago
BEGIN:DAYLIGHT
DTSTART:20160313T030000
TZOFFSETFROM:-0600
TZOFFSETTO:-0500
TZNAME:CDT
END:DAYLIGHT
END:VTIMEZONE
END:VCALENDAR