BEGIN:VCALENDAR
VERSION:2.0
PRODID:-//wp-events-plugin.com//7.2.3.1//EN
TZID:America/Chicago
X-WR-TIMEZONE:America/Chicago
BEGIN:VEVENT
UID:352@dev.dscc.uic.edu
DTSTART;TZID=America/Chicago:20150430T083000
DTEND;TZID=America/Chicago:20150430T150000
DTSTAMP:20150415T195850Z
URL:https://dev.dscc.uic.edu/events/safe-sleep-environment-training/
SUMMARY:Safe Sleep Environment Training
DESCRIPTION:Learn about SIDS\, SBS\, and safe sleeping environments.\n\nThi
 s training covers important information for parents of babies:\n\n	recomme
 ndations on sleeping environments to prevent Sudden Infant Death Syndrome 
 (SIDS)\n	dangers and triggers for Shaken Baby Syndrome (SBS)\n	how to shar
 e this lifesaving information with other parents and caregivers\n\nRegistr
 ation is required. A fee of $15 covers your lunch and training materials.\
 n\nFor more information or to register\, view the Safe and Healthy Infant
  Training flyer.
LOCATION:Dove Conference Center at St. John's Hospital\, 619 E. Mason Stree
 t\, Springfield\, Illinois\, 62703\, United States
GEO:39.805789;-89.64583249999998
X-APPLE-STRUCTURED-LOCATION;VALUE=URI;X-ADDRESS=619 E. Mason Street\, Sprin
 gfield\, Illinois\, 62703\, United States;X-APPLE-RADIUS=100;X-TITLE=Dove 
 Conference Center at St. John's Hospital:geo:39.805789,-89.64583249999998
END:VEVENT
BEGIN:VTIMEZONE
TZID:America/Chicago
X-LIC-LOCATION:America/Chicago
BEGIN:DAYLIGHT
DTSTART:20150308T030000
TZOFFSETFROM:-0600
TZOFFSETTO:-0500
TZNAME:CDT
END:DAYLIGHT
END:VTIMEZONE
END:VCALENDAR