BEGIN:VCALENDAR
VERSION:2.0
PRODID:-//wp-events-plugin.com//7.2.3.1//EN
TZID:America/Chicago
X-WR-TIMEZONE:America/Chicago
BEGIN:VEVENT
UID:1221@dev.dscc.uic.edu
DTSTART;TZID=America/Chicago:20190313T100000
DTEND;TZID=America/Chicago:20190313T130000
DTSTAMP:20190219T214047Z
URL:https://dev.dscc.uic.edu/events/self-determination-and-transition-skil
 ls-for-transition-aged-youth-training-in-normal/
SUMMARY:Self-Determination and Transition Skills for Transition-Aged Youth 
 Training in Normal
DESCRIPTION:Learn how to build self-determination skills to plan for adulth
 ood.\n\nYouth who practice self-determination skills have better outcomes 
 in school and for their overall quality of life.\n\nA team of IL-LEND (Lea
 dership Education in Neurodevelopmental and related Disabilities) trainees
  in partnership with UIC's Division of Specialized Care for Children (DSC
 C) is hosting this free training and lunch event on March 13.\n\nThe train
 ing aims to help youth\, family members and providers learn how to build s
 elf-determination skills to plan for adulthood.\n\nThe training will take 
 place at two locations that will be linked together via video:\n\n 	Univer
 sity of Illinois at Chicago site\nDepartment of Disability and Human Devel
 opment\, (Room 448)\n1640 W. Roosevelt Road\nChicago\, IL 60608\n 	Bloomin
 gton-Normal site\nEastview Christian Church (Lower atrium\, North side)\n1
 500 North Airport Rd\nNormal\, IL 61761\n\nParticipants should RSVP for ea
 ch person who will attend on the training registration webpage. The deadl
 ine to register is Feb. 22.
CATEGORIES:Training
LOCATION:Eastview Christian Church\, 1500 North Airport Road\, Normal\, IL\
 , United States
X-APPLE-STRUCTURED-LOCATION;VALUE=URI;X-ADDRESS=1500 North Airport Road\, N
 ormal\, IL\, United States;X-APPLE-RADIUS=100;X-TITLE=Eastview Christian C
 hurch:geo:0,0
END:VEVENT
BEGIN:VTIMEZONE
TZID:America/Chicago
X-LIC-LOCATION:America/Chicago
BEGIN:DAYLIGHT
DTSTART:20190310T030000
TZOFFSETFROM:-0600
TZOFFSETTO:-0500
TZNAME:CDT
END:DAYLIGHT
END:VTIMEZONE
END:VCALENDAR