BEGIN:VCALENDAR
VERSION:2.0
PRODID:-//wp-events-plugin.com//7.2.3.1//EN
TZID:America/Chicago
X-WR-TIMEZONE:America/Chicago
BEGIN:VEVENT
UID:1274@dev.dscc.uic.edu
DTSTART;TZID=America/Chicago:20190420T093000
DTEND;TZID=America/Chicago:20190420T093000
DTSTAMP:20190412T171830Z
URL:https://dev.dscc.uic.edu/events/sensory-egg-hunt-in-oregon-il/
SUMMARY:Sensory Egg Hunt in Oregon\, IL
DESCRIPTION:Family event at Oregon Park West.\n\nThe Oregon Park District i
 s hosting its first sensory-friendly Easter Egg Hunt at 9:30 a.m. April 20
  at Oregon Park West.\n\nParticipants will be inside fenced-in diamond #2 
 for the actual hunt.\n\nParticipants will collect empty eggs and redeem th
 em for a prize after the hunt.  Prizes will include toys\, coupons and pe
 anut free candy/food.\n\nThose who plan to attend are asked to RSVP. To re
 gister and for more information\, visit the Oregon Park District's websit
 e.
CATEGORIES:Special Event
LOCATION:Oregon Park West\, Koontz Place\, Oregon\, IL \, United States
GEO:42.0151572;-89.34481040000003
X-APPLE-STRUCTURED-LOCATION;VALUE=URI;X-ADDRESS=Koontz Place\, Oregon\, IL 
 \, United States;X-APPLE-RADIUS=100;X-TITLE=Oregon Park West:geo:42.015157
 2,-89.34481040000003
END:VEVENT
BEGIN:VTIMEZONE
TZID:America/Chicago
X-LIC-LOCATION:America/Chicago
BEGIN:DAYLIGHT
DTSTART:20190310T030000
TZOFFSETFROM:-0600
TZOFFSETTO:-0500
TZNAME:CDT
END:DAYLIGHT
END:VTIMEZONE
END:VCALENDAR